BEGIN:VCALENDAR
VERSION:2.0
PRODID:-//https://www.denbighchristianacademy.com//NONSGML kigkonsult.se iC
 alcreator 2.29.29//
CALSCALE:GREGORIAN
METHOD:PUBLISH
UID:e2df65b4-891a-4f2a-94f5-33052c27651e
X-WR-CALNAME:JCal Pro Calendar
X-WR-CALDESC:Your online events calendar
X-WR-TIMEZONE:UTC
BEGIN:VTIMEZONE
TZID:UTC
END:VTIMEZONE
BEGIN:VEVENT
UID:20231227T160000UTC-0274jCBOLx@https://www.denbighchristianacademy.com/
DTSTAMP:20260425T105542Z
CATEGORIES:School Menu
DTSTART:20231227T000000Z
DTEND:20231227T235959Z
SUMMARY:Wednesday - Closed for Christmas Break
URL:https://www.denbighchristianacademy.com/index.php/school-calendar/lunch
 -menu/10-school-menu/1365-wednesday-closed-for-christmas-break
END:VEVENT
END:VCALENDAR
