BEGIN:VCALENDAR
VERSION:2.0
PRODID:-//https://www.denbighchristianacademy.com//NONSGML kigkonsult.se iC
 alcreator 2.29.29//
CALSCALE:GREGORIAN
METHOD:PUBLISH
UID:fa4a02b4-b2b8-48c6-9c37-582c39d00f09
X-WR-CALNAME:JCal Pro Calendar
X-WR-CALDESC:Your online events calendar
X-WR-TIMEZONE:UTC
BEGIN:VTIMEZONE
TZID:UTC
END:VTIMEZONE
BEGIN:VEVENT
UID:20231226T160000UTC-4889zt0UgG@https://www.denbighchristianacademy.com/
DTSTAMP:20260425T105542Z
CATEGORIES:School Menu
DTSTART:20231226T000000Z
DTEND:20231226T235959Z
SUMMARY:Tuesday - Closed for Christmas Break
URL:https://www.denbighchristianacademy.com/index.php/school-calendar/lunch
 -menu/10-school-menu/1364-tuesday-closed-for-christmas-break
END:VEVENT
END:VCALENDAR
