BEGIN:VCALENDAR
VERSION:2.0
PRODID:-//https://www.denbighchristianacademy.com//NONSGML kigkonsult.se iC
 alcreator 2.29.29//
CALSCALE:GREGORIAN
METHOD:PUBLISH
UID:40370f01-965b-4d0b-a64c-ae376012cf15
X-WR-CALNAME:JCal Pro Calendar
X-WR-CALDESC:Your online events calendar
X-WR-TIMEZONE:UTC
BEGIN:VTIMEZONE
TZID:UTC
END:VTIMEZONE
BEGIN:VEVENT
UID:20231225T160000UTC-0264D0mvlV@https://www.denbighchristianacademy.com/
DTSTAMP:20260425T105413Z
CATEGORIES:School Menu
DTSTART:20231225T000000Z
DTEND:20231225T235959Z
SUMMARY:Monday - Closed for Christmas
URL:https://www.denbighchristianacademy.com/index.php/school-calendar/lunch
 -menu/10-school-menu/1363-monday-closed-for-christmas
END:VEVENT
END:VCALENDAR
