BEGIN:VCALENDAR
VERSION:2.0
PRODID:-//https://www.denbighchristianacademy.com//NONSGML kigkonsult.se iC
 alcreator 2.29.29//
CALSCALE:GREGORIAN
METHOD:PUBLISH
UID:95ba344e-6cab-4202-9f4e-94c276358f1c
X-WR-CALNAME:JCal Pro Calendar
X-WR-CALDESC:Your online events calendar
X-WR-TIMEZONE:UTC
BEGIN:VTIMEZONE
TZID:UTC
END:VTIMEZONE
BEGIN:VEVENT
UID:20231212T140000UTC-3377vaJbdS@https://www.denbighchristianacademy.com/
DTSTAMP:20260425T105542Z
CATEGORIES:School Menu
DESCRIPTION:<p><span style='text-decoration: underline\;'><strong>Breakfast
 </strong></span></p>\n<p>3.5 oz Biscuit<br />1 - 2 oz Turkey Bacon<br />1/
 4-1/2 cup Apple Sauce<br />1/4-1/2 cup Cereal (optional)<br />6 oz. 1% Mil
 k (8 oz for ages 6-12)</p>\n<p><br /><span style='text-decoration: underli
 ne\;'><strong>AM Snack</strong></span></p>\n<p>1 - 2 oz WG Animal&nbsp\; C
 rackers<br />4 oz 1% Milk (8 oz for ages 6-12)</p>\n<p><br /><span style='
 text-decoration: underline\;'><strong>Lunch</strong></span></p>\n<p>1 1/2 
 - 2 oz Chicken &amp\; Dumplings<br />1/4-1/2 cup Glazed Carrots<br />1/4 c
 up Mixed Fruit<br />6 oz.1% Milk (ages 6-12 8 oz)</p>\n<p><br /><span styl
 e='text-decoration: underline\;'><strong>PM Snack</strong></span></p>\n<p>
 1/4-1/2 cup Pretzels<br />4 oz 100% Grape Juice (8 oz for ages 6-12)</p>
DTSTART:20231212T000000Z
DTEND:20231212T235959Z
SUMMARY:Tuesday
URL:https://www.denbighchristianacademy.com/index.php/school-calendar/lunch
 -menu/10-school-menu/1349-tuesday
X-ALT-DESC;FMTTYPE=TEXT/HTML:<p><span style='text-decoration: underline\;'>
 <strong>Breakfast</strong></span></p>\n<p>3.5 oz Biscuit<br />1 - 2 oz Tur
 key Bacon<br />1/4-1/2 cup Apple Sauce<br />1/4-1/2 cup Cereal (optional)<
 br />6 oz. 1% Milk (8 oz for ages 6-12)</p>\n<p><br /><span style='text-de
 coration: underline\;'><strong>AM Snack</strong></span></p>\n<p>1 - 2 oz W
 G Animal&nbsp\; Crackers<br />4 oz 1% Milk (8 oz for ages 6-12)</p>\n<p><b
 r /><span style='text-decoration: underline\;'><strong>Lunch</strong></spa
 n></p>\n<p>1 1/2 - 2 oz Chicken &amp\; Dumplings<br />1/4-1/2 cup Glazed C
 arrots<br />1/4 cup Mixed Fruit<br />6 oz.1% Milk (ages 6-12 8 oz)</p>\n<p
 ><br /><span style='text-decoration: underline\;'><strong>PM Snack</strong
 ></span></p>\n<p>1/4-1/2 cup Pretzels<br />4 oz 100% Grape Juice (8 oz for
  ages 6-12)</p>
END:VEVENT
END:VCALENDAR
