BEGIN:VCALENDAR
VERSION:2.0
PRODID:-//https://www.denbighchristianacademy.com//NONSGML kigkonsult.se iC
 alcreator 2.29.29//
CALSCALE:GREGORIAN
METHOD:PUBLISH
UID:9aa03e59-ebb7-4200-a950-44831020d5a2
X-WR-CALNAME:JCal Pro Calendar
X-WR-CALDESC:Your online events calendar
X-WR-TIMEZONE:UTC
BEGIN:VTIMEZONE
TZID:UTC
END:VTIMEZONE
BEGIN:VEVENT
UID:20231026T180000UTC-44967wpKOu@https://www.denbighchristianacademy.com/
DTSTAMP:20260425T140115Z
CATEGORIES:School Menu
DESCRIPTION:<p><span style='text-decoration: underline\;'><strong>Breakfast
 </strong></span></p>\n<p>1 - 2 oz Turkey Sausage<br />1 1/2 - 2 oz WW Toas
 t<br />1/4-1/2 cup Fruit Cocktail<br />1/4-1/2 cup Cereal (optional)<br />
 6 oz. 1% Milk (8 oz for ages 6-12)</p>\n<p><br /><span style='text-decorat
 ion: underline\;'><strong>AM Snack</strong></span></p>\n<p>1/4-1/2 cup Fig
  Newtons<br />4 oz 1% Milk (8 oz for ages 6-12)</p>\n<p><br /><span style=
 'text-decoration: underline\;'><strong>Lunch</strong></span></p>\n<p>1 1/2
  - 2 oz Salisbury Steak<br />WW Roll<br />1/4-1/2 cup Mashed Potatoes<br /
 >1/4-1/2 cup Mixed Vegetables<br />1/4 cup Fruit Cocktail<br />6 oz.1% Mil
 k (ages 6-12 8 oz)</p>\n<p><br /><span style='text-decoration: underline\;
 '><strong>PM Snack</strong></span></p>\n<p>1 oz Graham Crackers<br />4 oz 
 1% Milk (8 oz for ages 6-12)</p>
DTSTART:20231026T000000Z
DTEND:20231026T235959Z
SUMMARY:Thursday
URL:https://www.denbighchristianacademy.com/index.php/school-calendar/lunch
 -menu/10-school-menu/1318-thursday
X-ALT-DESC;FMTTYPE=TEXT/HTML:<p><span style='text-decoration: underline\;'>
 <strong>Breakfast</strong></span></p>\n<p>1 - 2 oz Turkey Sausage<br />1 1
 /2 - 2 oz WW Toast<br />1/4-1/2 cup Fruit Cocktail<br />1/4-1/2 cup Cereal
  (optional)<br />6 oz. 1% Milk (8 oz for ages 6-12)</p>\n<p><br /><span st
 yle='text-decoration: underline\;'><strong>AM Snack</strong></span></p>\n<
 p>1/4-1/2 cup Fig Newtons<br />4 oz 1% Milk (8 oz for ages 6-12)</p>\n<p><
 br /><span style='text-decoration: underline\;'><strong>Lunch</strong></sp
 an></p>\n<p>1 1/2 - 2 oz Salisbury Steak<br />WW Roll<br />1/4-1/2 cup Mas
 hed Potatoes<br />1/4-1/2 cup Mixed Vegetables<br />1/4 cup Fruit Cocktail
 <br />6 oz.1% Milk (ages 6-12 8 oz)</p>\n<p><br /><span style='text-decora
 tion: underline\;'><strong>PM Snack</strong></span></p>\n<p>1 oz Graham Cr
 ackers<br />4 oz 1% Milk (8 oz for ages 6-12)</p>
END:VEVENT
END:VCALENDAR
