BEGIN:VCALENDAR
VERSION:2.0
PRODID:-//https://www.denbighchristianacademy.com//NONSGML kigkonsult.se iC
 alcreator 2.29.29//
CALSCALE:GREGORIAN
METHOD:PUBLISH
UID:5d8884b5-2d93-44f2-8eab-6f83da2430a1
X-WR-CALNAME:JCal Pro Calendar
X-WR-CALDESC:Your online events calendar
X-WR-TIMEZONE:UTC
BEGIN:VTIMEZONE
TZID:UTC
END:VTIMEZONE
BEGIN:VEVENT
UID:20231024T170000UTC-2359PNK4i7@https://www.denbighchristianacademy.com/
DTSTAMP:20260425T140050Z
CATEGORIES:School Menu
DESCRIPTION:<p><span style='text-decoration: underline\;'><strong>Breakfast
 </strong></span></p>\n<p>1 1/2 - 2 oz French Toast Sticks<br />1/4-1/2 cup
  Peaches<br />1/4-1/2 cup Cereal (optional)<br />6 oz. 1% Milk (8 oz for a
 ges 6-12)</p>\n<p><br /><span style='text-decoration: underline\;'><strong
 >AM Snack</strong></span></p>\n<p>1 oz WG Ritz Bits w/Cheese<br />4 oz 1% 
 Milk (8 oz for ages 6-12)</p>\n<p><br /><span style='text-decoration: unde
 rline\;'><strong>Lunch</strong></span></p>\n<p>1 1/2 - 2 oz Hot Dogs<br />
 WW Roll<br />1/4-1/2 cup Baked Beans<br />1/4 cup MIxed Fruit<br />6 oz.1%
  Milk (ages 6-12 8 oz)</p>\n<p><br /><span style='text-decoration: underli
 ne\;'><strong>PM Snack</strong></span></p>\n<p>1/4-1/2 cup Chocolate Chip 
 Cookies<br />4 oz 1% Milk (8 oz for ages 6-12)</p>
DTSTART:20231024T000000Z
DTEND:20231024T235959Z
SUMMARY:Tuesday
URL:https://www.denbighchristianacademy.com/index.php/school-calendar/lunch
 -menu/10-school-menu/1316-tuesday
X-ALT-DESC;FMTTYPE=TEXT/HTML:<p><span style='text-decoration: underline\;'>
 <strong>Breakfast</strong></span></p>\n<p>1 1/2 - 2 oz French Toast Sticks
 <br />1/4-1/2 cup Peaches<br />1/4-1/2 cup Cereal (optional)<br />6 oz. 1%
  Milk (8 oz for ages 6-12)</p>\n<p><br /><span style='text-decoration: und
 erline\;'><strong>AM Snack</strong></span></p>\n<p>1 oz WG Ritz Bits w/Che
 ese<br />4 oz 1% Milk (8 oz for ages 6-12)</p>\n<p><br /><span style='text
 -decoration: underline\;'><strong>Lunch</strong></span></p>\n<p>1 1/2 - 2 
 oz Hot Dogs<br />WW Roll<br />1/4-1/2 cup Baked Beans<br />1/4 cup MIxed F
 ruit<br />6 oz.1% Milk (ages 6-12 8 oz)</p>\n<p><br /><span style='text-de
 coration: underline\;'><strong>PM Snack</strong></span></p>\n<p>1/4-1/2 cu
 p Chocolate Chip Cookies<br />4 oz 1% Milk (8 oz for ages 6-12)</p>
END:VEVENT
END:VCALENDAR
