BEGIN:VCALENDAR
VERSION:2.0
PRODID:-//https://www.denbighchristianacademy.com//NONSGML kigkonsult.se iC
 alcreator 2.29.29//
CALSCALE:GREGORIAN
METHOD:PUBLISH
UID:274e98a2-4e94-41ae-b43f-249b57d1ae83
X-WR-CALNAME:JCal Pro Calendar
X-WR-CALDESC:Your online events calendar
X-WR-TIMEZONE:UTC
BEGIN:VTIMEZONE
TZID:UTC
END:VTIMEZONE
BEGIN:VEVENT
UID:20231020T160000UTC-3992sxGRuK@https://www.denbighchristianacademy.com/
DTSTAMP:20260425T140125Z
CATEGORIES:School Menu
DESCRIPTION:<p><span style='text-decoration: underline\;'><strong>Breakfast
 </strong></span></p>\n<p>1 - 2 oz Turkey Sausage Biscuit<br />1/4-1/2 cup 
 Peaches<br />1/4-1/2 cup Cereal (optional)<br />6 oz. 1% Milk (8 oz for ag
 es 6-12)</p>\n<p><br /><span style='text-decoration: underline\;'><strong>
 AM Snack</strong></span></p>\n<p>1/4-1/2 cup Fig Newtons<br />4 oz Water (
 8 oz for ages 6-12)</p>\n<p><br /><span style='text-decoration: underline\
 ;'><strong>Lunch</strong></span></p>\n<p>1 1/2 - 2 oz Fish Sticks&nbsp\;<b
 r />WW Bread<br />1/4-1/2 cup Brown Rice<br />1/4-1/2 cup Mixed Veggies<br
  />1/4 cup Mixed Fruit<br />6 oz.1% Milk (ages 6-12 8 oz)</p>\n<p><br /><s
 pan style='text-decoration: underline\;'><strong>PM Snack</strong></span><
 /p>\n<p>1 pk (1.5 oz) Lorne Doone Cookies<br />4 oz 1% Milk (8 oz for ages
  6-12)</p>
DTSTART:20231020T000000Z
DTEND:20231020T235959Z
SUMMARY:Friday
URL:https://www.denbighchristianacademy.com/index.php/school-calendar/lunch
 -menu/10-school-menu/1314-friday
X-ALT-DESC;FMTTYPE=TEXT/HTML:<p><span style='text-decoration: underline\;'>
 <strong>Breakfast</strong></span></p>\n<p>1 - 2 oz Turkey Sausage Biscuit<
 br />1/4-1/2 cup Peaches<br />1/4-1/2 cup Cereal (optional)<br />6 oz. 1% 
 Milk (8 oz for ages 6-12)</p>\n<p><br /><span style='text-decoration: unde
 rline\;'><strong>AM Snack</strong></span></p>\n<p>1/4-1/2 cup Fig Newtons<
 br />4 oz Water (8 oz for ages 6-12)</p>\n<p><br /><span style='text-decor
 ation: underline\;'><strong>Lunch</strong></span></p>\n<p>1 1/2 - 2 oz Fis
 h Sticks&nbsp\;<br />WW Bread<br />1/4-1/2 cup Brown Rice<br />1/4-1/2 cup
  Mixed Veggies<br />1/4 cup Mixed Fruit<br />6 oz.1% Milk (ages 6-12 8 oz)
 </p>\n<p><br /><span style='text-decoration: underline\;'><strong>PM Snack
 </strong></span></p>\n<p>1 pk (1.5 oz) Lorne Doone Cookies<br />4 oz 1% Mi
 lk (8 oz for ages 6-12)</p>
END:VEVENT
END:VCALENDAR
