BEGIN:VCALENDAR
VERSION:2.0
PRODID:-//https://www.denbighchristianacademy.com//NONSGML kigkonsult.se iC
 alcreator 2.29.29//
CALSCALE:GREGORIAN
METHOD:PUBLISH
UID:6ad83b50-9d0c-4c11-9890-642a8934a9bf
X-WR-CALNAME:JCal Pro Calendar
X-WR-CALDESC:Your online events calendar
X-WR-TIMEZONE:UTC
BEGIN:VTIMEZONE
TZID:UTC
END:VTIMEZONE
BEGIN:VEVENT
UID:20231005T180000UTC-37658EJBAM@https://www.denbighchristianacademy.com/
DTSTAMP:20260425T140050Z
CATEGORIES:School Menu
DESCRIPTION:<p><span style='text-decoration: underline\;'><strong>Breakfast
 </strong></span></p>\n<p>2 - 4 oz Oatmeal<br />1/4-1/2 cup Peaches<br />1/
 4-1/2 cup Cereal (optional)<br />6 oz. 1% Milk (8 oz for ages 6-12)</p>\n<
 p><br /><span style='text-decoration: underline\;'><strong>AM Snack</stron
 g></span></p>\n<p>1/4-1/2 cup WG Ritz Bits Crackers w/Cheese<br />4 oz Wat
 er (8 oz for ages 6-12)</p>\n<p><br /><span style='text-decoration: underl
 ine\;'><strong>Lunch</strong></span></p>\n<p>1 1/2 - 2 oz Chicken Nuggets<
 br />WW Bread<br />1/4-1/2 cup Peas &amp\; Carrots<br />1/4 cup Mixed Frui
 t<br />6 oz.1% Milk (ages 6-12 8 oz)</p>\n<p><br /><span style='text-decor
 ation: underline\;'><strong>PM Snack</strong></span></p>\n<p>1 pack Lorne 
 Doone Cookies 1.5 oz<br />4 oz 1% Milk (8 oz for ages 6-12)</p>
DTSTART:20231005T000000Z
DTEND:20231005T235959Z
SUMMARY:Thursday
URL:https://www.denbighchristianacademy.com/index.php/school-calendar/lunch
 -menu/10-school-menu/1303-thursday
X-ALT-DESC;FMTTYPE=TEXT/HTML:<p><span style='text-decoration: underline\;'>
 <strong>Breakfast</strong></span></p>\n<p>2 - 4 oz Oatmeal<br />1/4-1/2 cu
 p Peaches<br />1/4-1/2 cup Cereal (optional)<br />6 oz. 1% Milk (8 oz for 
 ages 6-12)</p>\n<p><br /><span style='text-decoration: underline\;'><stron
 g>AM Snack</strong></span></p>\n<p>1/4-1/2 cup WG Ritz Bits Crackers w/Che
 ese<br />4 oz Water (8 oz for ages 6-12)</p>\n<p><br /><span style='text-d
 ecoration: underline\;'><strong>Lunch</strong></span></p>\n<p>1 1/2 - 2 oz
  Chicken Nuggets<br />WW Bread<br />1/4-1/2 cup Peas &amp\; Carrots<br />1
 /4 cup Mixed Fruit<br />6 oz.1% Milk (ages 6-12 8 oz)</p>\n<p><br /><span 
 style='text-decoration: underline\;'><strong>PM Snack</strong></span></p>
 \n<p>1 pack Lorne Doone Cookies 1.5 oz<br />4 oz 1% Milk (8 oz for ages 6-
 12)</p>
END:VEVENT
END:VCALENDAR
