BEGIN:VCALENDAR
VERSION:2.0
PRODID:-//https://www.denbighchristianacademy.com//NONSGML kigkonsult.se iC
 alcreator 2.29.29//
CALSCALE:GREGORIAN
METHOD:PUBLISH
UID:ad2e6a02-5f5b-4a3e-ae37-e6dcb37a69fc
X-WR-CALNAME:JCal Pro Calendar
X-WR-CALDESC:Your online events calendar
X-WR-TIMEZONE:UTC
BEGIN:VTIMEZONE
TZID:UTC
END:VTIMEZONE
BEGIN:VEVENT
UID:20230907T170000UTC-6269M9lnJT@https://www.denbighchristianacademy.com/
DTSTAMP:20260425T152655Z
CATEGORIES:School Menu
DESCRIPTION:<p><span style='text-decoration: underline\;'><strong>Breakfast
 </strong></span></p>\n<p>2 - 4 oz Oatmeal<br />1/4-1/2 cup Peaches<br />1/
 4-1/2 cup Cereal (optional)<br />6 oz. 1% Milk (8 oz for ages 6-12)</p>\n<
 p><br /><span style='text-decoration: underline\;'><strong>AM Snack</stron
 g></span></p>\n<p>1/4-1/2 cup WG Ritz Bits Crackers w/Cheese<br />4 oz Wat
 er (8 oz for ages 6-12)</p>\n<p><br /><span style='text-decoration: underl
 ine\;'><strong>Lunch</strong></span></p>\n<p>1 1/2 -2 oz Pizza<br />1/4-1/
 2 cup Sweet Corn<br />1/4 cup Mixed Fruit<br />6 oz.1% Milk (ages 6-12 8 o
 z)</p>\n<p><br /><span style='text-decoration: underline\;'><strong>PM Sna
 ck</strong></span></p>\n<p>1 pk Lorne Doone Cookies 1.5 oz<br />4 oz 1% Mi
 lk (8 oz for ages 6-12)</p>
DTSTART:20230907T000000Z
DTEND:20230907T235959Z
SUMMARY:Thursday
URL:https://www.denbighchristianacademy.com/index.php/school-calendar/lunch
 -menu/10-school-menu/1283-thursday
X-ALT-DESC;FMTTYPE=TEXT/HTML:<p><span style='text-decoration: underline\;'>
 <strong>Breakfast</strong></span></p>\n<p>2 - 4 oz Oatmeal<br />1/4-1/2 cu
 p Peaches<br />1/4-1/2 cup Cereal (optional)<br />6 oz. 1% Milk (8 oz for 
 ages 6-12)</p>\n<p><br /><span style='text-decoration: underline\;'><stron
 g>AM Snack</strong></span></p>\n<p>1/4-1/2 cup WG Ritz Bits Crackers w/Che
 ese<br />4 oz Water (8 oz for ages 6-12)</p>\n<p><br /><span style='text-d
 ecoration: underline\;'><strong>Lunch</strong></span></p>\n<p>1 1/2 -2 oz 
 Pizza<br />1/4-1/2 cup Sweet Corn<br />1/4 cup Mixed Fruit<br />6 oz.1% Mi
 lk (ages 6-12 8 oz)</p>\n<p><br /><span style='text-decoration: underline\
 ;'><strong>PM Snack</strong></span></p>\n<p>1 pk Lorne Doone Cookies 1.5 o
 z<br />4 oz 1% Milk (8 oz for ages 6-12)</p>
END:VEVENT
END:VCALENDAR
