BEGIN:VCALENDAR
VERSION:2.0
PRODID:-//https://www.denbighchristianacademy.com//NONSGML kigkonsult.se iC
 alcreator 2.29.29//
CALSCALE:GREGORIAN
METHOD:PUBLISH
UID:8067d57a-488a-4f47-9927-65697b2606e5
X-WR-CALNAME:JCal Pro Calendar
X-WR-CALDESC:Your online events calendar
X-WR-TIMEZONE:UTC
BEGIN:VTIMEZONE
TZID:UTC
END:VTIMEZONE
BEGIN:VEVENT
UID:20230821T140000UTC-2601CI6Pv0@https://www.denbighchristianacademy.com/
DTSTAMP:20260425T164458Z
CATEGORIES:School Menu
DESCRIPTION:<p><span style='text-decoration: underline\;'><strong>Breakfast
 </strong></span></p>\n<p>2 oz French Toast<br />1/4-1/2 cup Diced Pears<br
  />1/4-1/2 cup Cereal (optional)<br />6 oz. 1% Milk (8 oz for ages 6-12)</
 p>\n<p><br /><span style='text-decoration: underline\;'><strong>AM Snack</
 strong></span></p>\n<p>1/4-1/2 cup Ritz Crackers &amp\; Cheese Cubes<br />
 4 oz 1% Milk (8 oz for ages 6-12)</p>\n<p><br /><span style='text-decorati
 on: underline\;'><strong>Lunch</strong></span></p>\n<p>1 1/2 - 2 oz Chicke
 n Nuggets<br />WW Bread<br />1/4-1/2 cup Green Beans<br />1/4 cup Mixed Fr
 uit<br />6 oz.1% Milk (ages 6-12 8 oz)</p>\n<p><br /><span style='text-dec
 oration: underline\;'><strong>PM Snack</strong></span></p>\n<p>1 oz Fig Ne
 wtons<br />4 oz 1% Milk (8 oz for ages 6-12)</p>
DTSTART:20230821T000000Z
DTEND:20230821T235959Z
SUMMARY:Monday
URL:https://www.denbighchristianacademy.com/index.php/school-calendar/lunch
 -menu/10-school-menu/1270-monday
X-ALT-DESC;FMTTYPE=TEXT/HTML:<p><span style='text-decoration: underline\;'>
 <strong>Breakfast</strong></span></p>\n<p>2 oz French Toast<br />1/4-1/2 c
 up Diced Pears<br />1/4-1/2 cup Cereal (optional)<br />6 oz. 1% Milk (8 oz
  for ages 6-12)</p>\n<p><br /><span style='text-decoration: underline\;'><
 strong>AM Snack</strong></span></p>\n<p>1/4-1/2 cup Ritz Crackers &amp\; C
 heese Cubes<br />4 oz 1% Milk (8 oz for ages 6-12)</p>\n<p><br /><span sty
 le='text-decoration: underline\;'><strong>Lunch</strong></span></p>\n<p>1 
 1/2 - 2 oz Chicken Nuggets<br />WW Bread<br />1/4-1/2 cup Green Beans<br /
 >1/4 cup Mixed Fruit<br />6 oz.1% Milk (ages 6-12 8 oz)</p>\n<p><br /><spa
 n style='text-decoration: underline\;'><strong>PM Snack</strong></span></p
 >\n<p>1 oz Fig Newtons<br />4 oz 1% Milk (8 oz for ages 6-12)</p>
END:VEVENT
END:VCALENDAR
