BEGIN:VCALENDAR
VERSION:2.0
PRODID:-//https://www.denbighchristianacademy.com//NONSGML kigkonsult.se iC
 alcreator 2.29.29//
CALSCALE:GREGORIAN
METHOD:PUBLISH
UID:716150c7-ed43-4e40-b7e5-4702053d5802
X-WR-CALNAME:JCal Pro Calendar
X-WR-CALDESC:Your online events calendar
X-WR-TIMEZONE:UTC
BEGIN:VTIMEZONE
TZID:UTC
END:VTIMEZONE
BEGIN:VEVENT
UID:20230627T170000UTC-8602VFpUBl@https://www.denbighchristianacademy.com/
DTSTAMP:20260425T194331Z
CATEGORIES:School Menu
DESCRIPTION:<p><span style='text-decoration: underline\;'><strong>Breakfast
 </strong></span></p>\n<p>1 1/2 oz (2) Pancakes<br />1/4-1/2 cup Pineapple<
 br />1/4-1/2 cup Cereal (optional)<br />6 oz. 1% Milk (8 oz for ages 6-12)
 </p>\n<p><br /><span style='text-decoration: underline\;'><strong>AM Snack
 </strong></span></p>\n<p>1 - 2 oz WG Animal Crackers<br />4 oz 1% Milk (8 
 oz for ages 6-12)</p>\n<p><br /><span style='text-decoration: underline\;'
 ><strong>Lunch</strong></span></p>\n<p>1 1/2 - 2 oz Beef Franks on&nbsp\;<
 br />WW Bun&nbsp\;<br />1/4-1/2 cup Baked Beans<br />1/4-1/2 cup Pineapple
 <br />6 oz.1% Milk (ages 6-12 8 oz)</p>\n<p><br /><span style='text-decora
 tion: underline\;'><strong>PM Snack</strong></span></p>\n<p>1/4-1/2 cup Pr
 etzels<br />4 oz 100% Apple Juice (8 oz for ages 6-12)</p>
DTSTART:20230627T000000Z
DTEND:20230627T235959Z
SUMMARY:Tuesday
URL:https://www.denbighchristianacademy.com/index.php/school-calendar/lunch
 -menu/10-school-menu/1231-tuesday
X-ALT-DESC;FMTTYPE=TEXT/HTML:<p><span style='text-decoration: underline\;'>
 <strong>Breakfast</strong></span></p>\n<p>1 1/2 oz (2) Pancakes<br />1/4-1
 /2 cup Pineapple<br />1/4-1/2 cup Cereal (optional)<br />6 oz. 1% Milk (8 
 oz for ages 6-12)</p>\n<p><br /><span style='text-decoration: underline\;'
 ><strong>AM Snack</strong></span></p>\n<p>1 - 2 oz WG Animal Crackers<br /
 >4 oz 1% Milk (8 oz for ages 6-12)</p>\n<p><br /><span style='text-decorat
 ion: underline\;'><strong>Lunch</strong></span></p>\n<p>1 1/2 - 2 oz Beef 
 Franks on&nbsp\;<br />WW Bun&nbsp\;<br />1/4-1/2 cup Baked Beans<br />1/4-
 1/2 cup Pineapple<br />6 oz.1% Milk (ages 6-12 8 oz)</p>\n<p><br /><span s
 tyle='text-decoration: underline\;'><strong>PM Snack</strong></span></p>\n
 <p>1/4-1/2 cup Pretzels<br />4 oz 100% Apple Juice (8 oz for ages 6-12)</p
 >
END:VEVENT
END:VCALENDAR
