BEGIN:VCALENDAR
VERSION:2.0
PRODID:-//https://www.denbighchristianacademy.com//NONSGML kigkonsult.se iC
 alcreator 2.29.29//
CALSCALE:GREGORIAN
METHOD:PUBLISH
UID:96bda3e2-fcaf-4407-9fbd-bb7df4513499
X-WR-CALNAME:JCal Pro Calendar
X-WR-CALDESC:Your online events calendar
X-WR-TIMEZONE:UTC
BEGIN:VTIMEZONE
TZID:UTC
END:VTIMEZONE
BEGIN:VEVENT
UID:20230410T140000UTC-3612Bwvj0w@https://www.denbighchristianacademy.com/
DTSTAMP:20260425T231827Z
CATEGORIES:School Menu
DTSTART:20230410T000000Z
DTEND:20230410T235959Z
SUMMARY:Monday - Closed for Resurrection Monday
URL:https://www.denbighchristianacademy.com/index.php/school-calendar/lunch
 -menu/10-school-menu/1123-monday-closed-for-resurrection-monday
END:VEVENT
END:VCALENDAR
