BEGIN:VCALENDAR
VERSION:2.0
PRODID:-//https://www.denbighchristianacademy.com//NONSGML kigkonsult.se iC
 alcreator 2.29.29//
CALSCALE:GREGORIAN
METHOD:PUBLISH
UID:84ce5510-45da-4909-8a66-b306920d5054
X-WR-CALNAME:JCal Pro Calendar
X-WR-CALDESC:Your online events calendar
X-WR-TIMEZONE:UTC
BEGIN:VTIMEZONE
TZID:UTC
END:VTIMEZONE
BEGIN:VEVENT
UID:20230322T180000UTC-2650cCuvgG@https://www.denbighchristianacademy.com/
DTSTAMP:20260426T021721Z
CATEGORIES:School Menu
DESCRIPTION:<p><span style='text-decoration: underline\;'><strong>Breakfast
 </strong></span></p>\n<p>1 1/2 oz (2) Pancakes<br />1/4-1/2 cup Pineapple<
 br />1/4-1/2 cup Cereal (optional)<br />6 oz. 1% Milk (8 oz for ages 6-12)
 </p>\n<p><br /><span style='text-decoration: underline\;'><strong>AM Snack
 </strong></span></p>\n<p>1/4-1/2 cup Ritz Crackers &amp\; Cheese Cubes<br 
 />4 oz Water (8 oz for ages 6-12)</p>\n<p><br /><span style='text-decorati
 on: underline\;'><strong>Lunch</strong></span></p>\n<p>1 1/2 - 2 oz Beef &
 amp\; Buttered Noodles<br />WW Bread<br />1/4-1/2 cup Mashed Potatoes<br /
 >1/4-1/2 cup Cauliflower Rice<br />1/4 cup Fruit Cocktail<br />6 oz.1% Mil
 k (ages 6-12 8 oz)</p>\n<p><br /><span style='text-decoration: underline\;
 '><strong>PM Snack</strong></span></p>\n<p>1/4-1/2 cup Chocolate Chip Cook
 ies<br />4 oz 1% Milk (8 oz for ages 6-12)</p>
DTSTART:20230322T000000Z
DTEND:20230322T235959Z
SUMMARY:Wednesday
URL:https://www.denbighchristianacademy.com/index.php/school-calendar/lunch
 -menu/10-school-menu/1110-wednesday
X-ALT-DESC;FMTTYPE=TEXT/HTML:<p><span style='text-decoration: underline\;'>
 <strong>Breakfast</strong></span></p>\n<p>1 1/2 oz (2) Pancakes<br />1/4-1
 /2 cup Pineapple<br />1/4-1/2 cup Cereal (optional)<br />6 oz. 1% Milk (8 
 oz for ages 6-12)</p>\n<p><br /><span style='text-decoration: underline\;'
 ><strong>AM Snack</strong></span></p>\n<p>1/4-1/2 cup Ritz Crackers &amp\;
  Cheese Cubes<br />4 oz Water (8 oz for ages 6-12)</p>\n<p><br /><span sty
 le='text-decoration: underline\;'><strong>Lunch</strong></span></p>\n<p>1 
 1/2 - 2 oz Beef &amp\; Buttered Noodles<br />WW Bread<br />1/4-1/2 cup Mas
 hed Potatoes<br />1/4-1/2 cup Cauliflower Rice<br />1/4 cup Fruit Cocktail
 <br />6 oz.1% Milk (ages 6-12 8 oz)</p>\n<p><br /><span style='text-decora
 tion: underline\;'><strong>PM Snack</strong></span></p>\n<p>1/4-1/2 cup Ch
 ocolate Chip Cookies<br />4 oz 1% Milk (8 oz for ages 6-12)</p>
END:VEVENT
END:VCALENDAR
