BEGIN:VCALENDAR
VERSION:2.0
PRODID:-//https://www.denbighchristianacademy.com//NONSGML kigkonsult.se iC
 alcreator 2.29.29//
CALSCALE:GREGORIAN
METHOD:PUBLISH
UID:da3aafa2-465c-42ae-a42c-08a0f25e7d41
X-WR-CALNAME:JCal Pro Calendar
X-WR-CALDESC:Your online events calendar
X-WR-TIMEZONE:UTC
BEGIN:VTIMEZONE
TZID:UTC
END:VTIMEZONE
BEGIN:VEVENT
UID:20230116T140000UTC-9538OBMZcF@https://www.denbighchristianacademy.com/
DTSTAMP:20260426T033845Z
CATEGORIES:School Menu
DESCRIPTION:<p>Holiday. DCA closed in observance of Martin Luther King Day.
 </p>
DTSTART:20230116T000000Z
DTEND:20230116T235959Z
SUMMARY:Monday
URL:https://www.denbighchristianacademy.com/index.php/school-calendar/lunch
 -menu/10-school-menu/1063-monday
X-ALT-DESC;FMTTYPE=TEXT/HTML:<p>Holiday. DCA closed in observance of Martin
  Luther King Day.</p>
END:VEVENT
END:VCALENDAR
