BEGIN:VCALENDAR
VERSION:2.0
PRODID:-//https://www.denbighchristianacademy.com//NONSGML kigkonsult.se iC
 alcreator 2.29.29//
CALSCALE:GREGORIAN
METHOD:PUBLISH
UID:1263c70f-fc00-467e-ae6c-78ff3298235f
X-WR-CALNAME:JCal Pro Calendar
X-WR-CALDESC:Your online events calendar
X-WR-TIMEZONE:UTC
BEGIN:VTIMEZONE
TZID:UTC
END:VTIMEZONE
BEGIN:VEVENT
UID:20220906T180000UTC-65611m8w2C@https://www.denbighchristianacademy.com/
DTSTAMP:20260426T032956Z
CATEGORIES:School Menu
DESCRIPTION:<p><span style='text-decoration: underline\;'><strong>Breakfast
 </strong></span></p>\n<p>1 oz Turkey Sausage Biscuit<br />1/4-1/2 cup Peac
 hes<br />1/4-1/2 cup Cereal (optional)<br />6 oz. 1% Milk (8 oz for ages 6
 -12)</p>\n<p><br /><span style='text-decoration: underline\;'><strong>AM S
 nack</strong></span></p>\n<p>1/4-1/2 cup WG Fig Newtons<br />4 oz 1% Milk 
 (8 oz for ages 6-12)</p>\n<p><br /><span style='text-decoration: underline
 \;'><strong>Lunch</strong></span></p>\n<p>1 1/2 - 2 oz Chicken Tenders<br 
 />WW Roll<br />1/4-1/2 cp Peas &amp\; carrots<br />1/4 cup Mixed Fruit<br 
 />6 oz.1% Milk (ages 6-12 8 oz)</p>\n<p><br /><span style='text-decoration
 : underline\;'><strong>PM Snack</strong></span></p>\n<p>1/4-1/2 cup Chocol
 ate Chip Cookies<br />4 oz 1% Milk (8 oz for ages 6-12)</p>
DTSTART:20220906T000000Z
DTEND:20220906T235959Z
SUMMARY:Tuesday
URL:https://www.denbighchristianacademy.com/index.php/school-calendar/lunch
 -menu/10-school-menu/935-tuesday
X-ALT-DESC;FMTTYPE=TEXT/HTML:<p><span style='text-decoration: underline\;'>
 <strong>Breakfast</strong></span></p>\n<p>1 oz Turkey Sausage Biscuit<br /
 >1/4-1/2 cup Peaches<br />1/4-1/2 cup Cereal (optional)<br />6 oz. 1% Milk
  (8 oz for ages 6-12)</p>\n<p><br /><span style='text-decoration: underlin
 e\;'><strong>AM Snack</strong></span></p>\n<p>1/4-1/2 cup WG Fig Newtons<b
 r />4 oz 1% Milk (8 oz for ages 6-12)</p>\n<p><br /><span style='text-deco
 ration: underline\;'><strong>Lunch</strong></span></p>\n<p>1 1/2 - 2 oz Ch
 icken Tenders<br />WW Roll<br />1/4-1/2 cp Peas &amp\; carrots<br />1/4 cu
 p Mixed Fruit<br />6 oz.1% Milk (ages 6-12 8 oz)</p>\n<p><br /><span style
 ='text-decoration: underline\;'><strong>PM Snack</strong></span></p>\n<p>1
 /4-1/2 cup Chocolate Chip Cookies<br />4 oz 1% Milk (8 oz for ages 6-12)</
 p>
END:VEVENT
END:VCALENDAR
