BEGIN:VCALENDAR
VERSION:2.0
PRODID:-//https://www.denbighchristianacademy.com//NONSGML kigkonsult.se iC
 alcreator 2.29.29//
CALSCALE:GREGORIAN
METHOD:PUBLISH
UID:d0c781b7-0af9-485c-aa59-020267890bda
X-WR-CALNAME:JCal Pro Calendar
X-WR-CALDESC:Your online events calendar
X-WR-TIMEZONE:UTC
BEGIN:VTIMEZONE
TZID:UTC
END:VTIMEZONE
BEGIN:VEVENT
UID:20220905T180000UTC-83120uBO9e@https://www.denbighchristianacademy.com/
DTSTAMP:20260426T033855Z
CATEGORIES:School Menu
DESCRIPTION:<p>DCA is closed for Labor Day.</p>
DTSTART:20220905T000000Z
DTEND:20220905T235959Z
SUMMARY:Monday - Closed for Labor Day
URL:https://www.denbighchristianacademy.com/index.php/school-calendar/lunch
 -menu/10-school-menu/934-monday-closed-for-labor-day
X-ALT-DESC;FMTTYPE=TEXT/HTML:<p>DCA is closed for Labor Day.</p>
END:VEVENT
END:VCALENDAR
