BEGIN:VCALENDAR
VERSION:2.0
PRODID:-//https://www.denbighchristianacademy.com//NONSGML kigkonsult.se iC
 alcreator 2.29.29//
CALSCALE:GREGORIAN
METHOD:PUBLISH
UID:ce0e3dc6-9b66-4e9a-b4cf-e4e14320100b
X-WR-CALNAME:JCal Pro Calendar
X-WR-CALDESC:Your online events calendar
X-WR-TIMEZONE:UTC
BEGIN:VTIMEZONE
TZID:UTC
END:VTIMEZONE
BEGIN:VEVENT
UID:20220812T120000UTC-3392Ohzown@https://www.denbighchristianacademy.com/
DTSTAMP:20260426T020125Z
CATEGORIES:School Menu
DESCRIPTION:<p><span style='text-decoration: underline\;'><strong>Breakfast
 </strong></span></p>\n<p>1 1/2 oz (2)Pancakes<br />1/4-1/2 cup Mixed Fruit
 <br />1/4-1/2 cup Cereal (optional)<br />6 oz. 1% Milk (8 oz for ages 6-12
 )</p>\n<p><br /><span style='text-decoration: underline\;'><strong>AM Snac
 k</strong></span></p>\n<p>1/4-1/2 cup Cheez-it Crackers<br />4 oz 1% Milk 
 (8 oz for ages 6-12)</p>\n<p><br /><span style='text-decoration: underline
 \;'><strong>Lunch</strong></span></p>\n<p>1 1/2 - 2 oz Breaded Fish<br />1
 /4-1/2 cp WG Brown Rice<br />1/4-1/2 cup California Vegetable Blend<br />1
 /4 cup Mixed Fruit<br />6 oz.1% Milk (ages 6-12 8 oz)</p>\n<p><br /><span 
 style='text-decoration: underline\;'><strong>PM Snack</strong></span></p>
 \n<p>1/4-1/2 cup Goldfish<br />4 oz 1% Milk (8 oz for ages 6-12)</p>
DTSTART:20220812T000000Z
DTEND:20220812T235959Z
SUMMARY:Friday
URL:https://www.denbighchristianacademy.com/index.php/school-calendar/lunch
 -menu/10-school-menu/916-friday
X-ALT-DESC;FMTTYPE=TEXT/HTML:<p><span style='text-decoration: underline\;'>
 <strong>Breakfast</strong></span></p>\n<p>1 1/2 oz (2)Pancakes<br />1/4-1/
 2 cup Mixed Fruit<br />1/4-1/2 cup Cereal (optional)<br />6 oz. 1% Milk (8
  oz for ages 6-12)</p>\n<p><br /><span style='text-decoration: underline\;
 '><strong>AM Snack</strong></span></p>\n<p>1/4-1/2 cup Cheez-it Crackers<b
 r />4 oz 1% Milk (8 oz for ages 6-12)</p>\n<p><br /><span style='text-deco
 ration: underline\;'><strong>Lunch</strong></span></p>\n<p>1 1/2 - 2 oz Br
 eaded Fish<br />1/4-1/2 cp WG Brown Rice<br />1/4-1/2 cup California Veget
 able Blend<br />1/4 cup Mixed Fruit<br />6 oz.1% Milk (ages 6-12 8 oz)</p>
 \n<p><br /><span style='text-decoration: underline\;'><strong>PM Snack</st
 rong></span></p>\n<p>1/4-1/2 cup Goldfish<br />4 oz 1% Milk (8 oz for ages
  6-12)</p>
END:VEVENT
END:VCALENDAR
