BEGIN:VCALENDAR
VERSION:2.0
PRODID:-//https://www.denbighchristianacademy.com//NONSGML kigkonsult.se iC
 alcreator 2.29.29//
CALSCALE:GREGORIAN
METHOD:PUBLISH
UID:43e1d0aa-dceb-4e91-81b4-6e80daf5bbef
X-WR-CALNAME:JCal Pro Calendar
X-WR-CALDESC:Your online events calendar
X-WR-TIMEZONE:UTC
BEGIN:VTIMEZONE
TZID:UTC
END:VTIMEZONE
BEGIN:VEVENT
UID:20220805T180000UTC-2617I5d01c@https://www.denbighchristianacademy.com/
DTSTAMP:20260426T020118Z
CATEGORIES:School Menu
DESCRIPTION:<p><span style='text-decoration: underline\;'><strong>Breakfast
 </strong></span></p>\n<p>1 - 2 oz Turkey Sausage Biscuit<br />1/4-1/2 cup 
 Peaches<br />1/4-1/2 cup Cereal (optional)<br />6 oz. 1% Milk (8 oz for ag
 es 6-12)</p>\n<p><br /><span style='text-decoration: underline\;'><strong>
 AM Snack</strong></span></p>\n<p>1/4-1/2 cup WG Ritz Crackers &amp\; Chees
 e Cubes<br />4 oz Water (8 oz for ages 6-12)</p>\n<p><br /><span style='te
 xt-decoration: underline\;'><strong>Lunch</strong></span></p>\n<p>1 1/2 - 
 2 oz Hamburger/Cheeseburger<br />on WW Bun<br />1/4-1/2 cup Potato Chips<b
 r />1/4-1/2 cup Mixed Fruit<br />6 oz.1% Milk (ages 6-12 8 oz)</p>\n<p><br
  /><span style='text-decoration: underline\;'><strong>PM Snack</strong></s
 pan></p>\n<p>1 oz Oatmeal Cookie<br />4 oz 1% Milk (8 oz for ages 6-12)</p
 >
DTSTART:20220805T000000Z
DTEND:20220805T235959Z
SUMMARY:Friday
URL:https://www.denbighchristianacademy.com/index.php/school-calendar/lunch
 -menu/10-school-menu/911-friday
X-ALT-DESC;FMTTYPE=TEXT/HTML:<p><span style='text-decoration: underline\;'>
 <strong>Breakfast</strong></span></p>\n<p>1 - 2 oz Turkey Sausage Biscuit<
 br />1/4-1/2 cup Peaches<br />1/4-1/2 cup Cereal (optional)<br />6 oz. 1% 
 Milk (8 oz for ages 6-12)</p>\n<p><br /><span style='text-decoration: unde
 rline\;'><strong>AM Snack</strong></span></p>\n<p>1/4-1/2 cup WG Ritz Crac
 kers &amp\; Cheese Cubes<br />4 oz Water (8 oz for ages 6-12)</p>\n<p><br 
 /><span style='text-decoration: underline\;'><strong>Lunch</strong></span>
 </p>\n<p>1 1/2 - 2 oz Hamburger/Cheeseburger<br />on WW Bun<br />1/4-1/2 c
 up Potato Chips<br />1/4-1/2 cup Mixed Fruit<br />6 oz.1% Milk (ages 6-12 
 8 oz)</p>\n<p><br /><span style='text-decoration: underline\;'><strong>PM 
 Snack</strong></span></p>\n<p>1 oz Oatmeal Cookie<br />4 oz 1% Milk (8 oz 
 for ages 6-12)</p>
END:VEVENT
END:VCALENDAR
