BEGIN:VCALENDAR
VERSION:2.0
PRODID:-//https://www.denbighchristianacademy.com//NONSGML kigkonsult.se iC
 alcreator 2.29.29//
CALSCALE:GREGORIAN
METHOD:PUBLISH
UID:7c6809f0-f350-4887-b95a-97d515b384a1
X-WR-CALNAME:JCal Pro Calendar
X-WR-CALDESC:Your online events calendar
X-WR-TIMEZONE:UTC
BEGIN:VTIMEZONE
TZID:UTC
END:VTIMEZONE
BEGIN:VEVENT
UID:20220708T150000UTC-2873PIG5Tv@https://www.denbighchristianacademy.com/
DTSTAMP:20260426T005140Z
CATEGORIES:School Menu
DESCRIPTION:<p><span style='text-decoration: underline\;'><strong>Breakfast
 </strong></span></p>\n<p>1 - 2 oz Turkey &amp\; Sausage Biscuit<br />1/4-1
 /2 cup Peaches<br />1/4-1/2 cup Cereal (optional)<br />6 oz. 1% Milk (8 oz
  for ages 6-12)</p>\n<p><br /><span style='text-decoration: underline\;'><
 strong>AM Snack</strong></span></p>\n<p>1/4-1/2 cup WG Ritz Cheese Cracker
 s &amp\; Cheesy Dip<br />4 oz 1% Milk (8 oz for ages 6-12)</p>\n<p><br /><
 span style='text-decoration: underline\;'><strong>Lunch</strong></span></p
 >\n<p>1 1/2 - 2 oz Hamburger/Cheeseburger<br />on WW Bun<br />1/4-1/2 cup 
 Potato Chips<br />1/4 cup Jelled Fruit Cocktail<br />6 oz.1% Milk (ages 6-
 12 8 oz)</p>\n<p><br /><span style='text-decoration: underline\;'><strong>
 PM Snack</strong></span></p>\n<p>1 oz Oatmeal Cookie<br />4 oz 1% Milk (8 
 oz for ages 6-12)</p>
DTSTART:20220708T000000Z
DTEND:20220708T235959Z
SUMMARY:Friday
URL:https://www.denbighchristianacademy.com/index.php/school-calendar/lunch
 -menu/10-school-menu/891-friday
X-ALT-DESC;FMTTYPE=TEXT/HTML:<p><span style='text-decoration: underline\;'>
 <strong>Breakfast</strong></span></p>\n<p>1 - 2 oz Turkey &amp\; Sausage B
 iscuit<br />1/4-1/2 cup Peaches<br />1/4-1/2 cup Cereal (optional)<br />6 
 oz. 1% Milk (8 oz for ages 6-12)</p>\n<p><br /><span style='text-decoratio
 n: underline\;'><strong>AM Snack</strong></span></p>\n<p>1/4-1/2 cup WG Ri
 tz Cheese Crackers &amp\; Cheesy Dip<br />4 oz 1% Milk (8 oz for ages 6-12
 )</p>\n<p><br /><span style='text-decoration: underline\;'><strong>Lunch</
 strong></span></p>\n<p>1 1/2 - 2 oz Hamburger/Cheeseburger<br />on WW Bun<
 br />1/4-1/2 cup Potato Chips<br />1/4 cup Jelled Fruit Cocktail<br />6 oz
 .1% Milk (ages 6-12 8 oz)</p>\n<p><br /><span style='text-decoration: unde
 rline\;'><strong>PM Snack</strong></span></p>\n<p>1 oz Oatmeal Cookie<br /
 >4 oz 1% Milk (8 oz for ages 6-12)</p>
END:VEVENT
END:VCALENDAR
