BEGIN:VCALENDAR
VERSION:2.0
PRODID:-//https://www.denbighchristianacademy.com//NONSGML kigkonsult.se iC
 alcreator 2.29.29//
CALSCALE:GREGORIAN
METHOD:PUBLISH
UID:6ecce707-b667-4eac-b47f-3c786cd1fc28
X-WR-CALNAME:JCal Pro Calendar
X-WR-CALDESC:Your online events calendar
X-WR-TIMEZONE:UTC
BEGIN:VTIMEZONE
TZID:UTC
END:VTIMEZONE
BEGIN:VEVENT
UID:20220704T140000UTC-8914bhpKRw@https://www.denbighchristianacademy.com/
DTSTAMP:20260426T005140Z
CATEGORIES:School Menu
DESCRIPTION:<p>DCA is closed for Independence Day.</p>
DTSTART:20220704T000000Z
DTEND:20220704T235959Z
SUMMARY:Monday - Closed
URL:https://www.denbighchristianacademy.com/index.php/school-calendar/lunch
 -menu/10-school-menu/887-monday-closed
X-ALT-DESC;FMTTYPE=TEXT/HTML:<p>DCA is closed for Independence Day.</p>
END:VEVENT
END:VCALENDAR
