BEGIN:VCALENDAR
VERSION:2.0
PRODID:-//https://www.denbighchristianacademy.com//NONSGML kigkonsult.se iC
 alcreator 2.29.29//
CALSCALE:GREGORIAN
METHOD:PUBLISH
UID:5230226a-7215-41cd-af97-e854f61ca8c6
X-WR-CALNAME:JCal Pro Calendar
X-WR-CALDESC:Your online events calendar
X-WR-TIMEZONE:UTC
BEGIN:VTIMEZONE
TZID:UTC
END:VTIMEZONE
BEGIN:VEVENT
UID:20220607T190000UTC-1823rc7KJN@https://www.denbighchristianacademy.com/
DTSTAMP:20260425T232640Z
CATEGORIES:School Menu
DESCRIPTION:<p><span style='text-decoration: underline\;'><strong>Breakfast
 </strong></span></p>\n<p>3.5 oz Cheese Omelet or<br />1 - 2 oz Turkey Saus
 age Links<br />1/4-1/2 cup Tropical Fruit<br />1/4-1/2 cup Cereal (optiona
 l)<br />6 oz. 1% Milk (8 oz for ages 6-12)</p>\n<p><br /><span style='text
 -decoration: underline\;'><strong>AM Snack</strong></span></p>\n<p>1/4-1/2
  cup Ritz Crackers w/Cheese Cubes<br />4 oz Water (8 oz for ages 6-12)</p>
 \n<p><br /><span style='text-decoration: underline\;'><strong>Lunch</stron
 g></span></p>\n<p>1 1/2 - 2 oz Meat &amp\; Sauce Nachos<br />1/4-1/2 cup S
 easoned Corn<br />1/4 cup Tropical Fruit<br />6 oz.1% Milk (ages 6-12 8 oz
 )</p>\n<p><br /><span style='text-decoration: underline\;'><strong>PM Snac
 k</strong></span></p>\n<p>1 1/2 oz Pack Lorne Doone Cookies<br />4 oz 1% M
 ilk (8 oz for ages 6-12)</p>
DTSTART:20220607T000000Z
DTEND:20220607T235959Z
SUMMARY:Tuesday
URL:https://www.denbighchristianacademy.com/index.php/school-calendar/lunch
 -menu/10-school-menu/868-tuesday
X-ALT-DESC;FMTTYPE=TEXT/HTML:<p><span style='text-decoration: underline\;'>
 <strong>Breakfast</strong></span></p>\n<p>3.5 oz Cheese Omelet or<br />1 -
  2 oz Turkey Sausage Links<br />1/4-1/2 cup Tropical Fruit<br />1/4-1/2 cu
 p Cereal (optional)<br />6 oz. 1% Milk (8 oz for ages 6-12)</p>\n<p><br />
 <span style='text-decoration: underline\;'><strong>AM Snack</strong></span
 ></p>\n<p>1/4-1/2 cup Ritz Crackers w/Cheese Cubes<br />4 oz Water (8 oz f
 or ages 6-12)</p>\n<p><br /><span style='text-decoration: underline\;'><st
 rong>Lunch</strong></span></p>\n<p>1 1/2 - 2 oz Meat &amp\; Sauce Nachos<b
 r />1/4-1/2 cup Seasoned Corn<br />1/4 cup Tropical Fruit<br />6 oz.1% Mil
 k (ages 6-12 8 oz)</p>\n<p><br /><span style='text-decoration: underline\;
 '><strong>PM Snack</strong></span></p>\n<p>1 1/2 oz Pack Lorne Doone Cooki
 es<br />4 oz 1% Milk (8 oz for ages 6-12)</p>
END:VEVENT
END:VCALENDAR
