BEGIN:VCALENDAR
VERSION:2.0
PRODID:-//https://www.denbighchristianacademy.com//NONSGML kigkonsult.se iC
 alcreator 2.29.29//
CALSCALE:GREGORIAN
METHOD:PUBLISH
UID:f033fdac-5e54-48e8-b53f-16253b56ad45
X-WR-CALNAME:JCal Pro Calendar
X-WR-CALDESC:Your online events calendar
X-WR-TIMEZONE:UTC
BEGIN:VTIMEZONE
TZID:UTC
END:VTIMEZONE
BEGIN:VEVENT
UID:20220526T130000UTC-3575J78G2H@https://www.denbighchristianacademy.com/
DTSTAMP:20260425T215148Z
CATEGORIES:School Menu
DESCRIPTION:<p><span style='text-decoration: underline\;'><strong>Breakfast
 </strong></span></p>\n<p>2 - 4 Frernch Toast Sticks<br />1/4-1/2 cup Peach
 es<br />1/4-1/2 cup Cereal (optional)<br />6 oz. 1% Milk (8 oz for ages 6-
 12)</p>\n<p><br /><span style='text-decoration: underline\;'><strong>AM Sn
 ack</strong></span></p>\n<p>1 individiual pk Teddy Grahams<br />4 oz Water
  (8 oz for ages 6-12)</p>\n<p><br /><span style='text-decoration: underlin
 e\;'><strong>Lunch</strong></span></p>\n<p>1 1/2 - 2 oz Chicken Nuggets<br
  />WW Roll<br />1/4-1./2 cup Broccoli<br />1/4 cup Fruit Cocktail<br />6 o
 z.1% Milk (ages 6-12 8 oz)</p>\n<p><br /><span style='text-decoration: und
 erline\;'><strong>PM Snack</strong></span></p>\n<p>1 pack Lorne Doone Cook
 ies 1.5 oz<br />4 oz 1% Milk (8 oz for ages 6-12)</p>
DTSTART:20220526T000000Z
DTEND:20220526T235959Z
SUMMARY:Thursday
URL:https://www.denbighchristianacademy.com/index.php/school-calendar/lunch
 -menu/10-school-menu/861-thursday
X-ALT-DESC;FMTTYPE=TEXT/HTML:<p><span style='text-decoration: underline\;'>
 <strong>Breakfast</strong></span></p>\n<p>2 - 4 Frernch Toast Sticks<br />
 1/4-1/2 cup Peaches<br />1/4-1/2 cup Cereal (optional)<br />6 oz. 1% Milk 
 (8 oz for ages 6-12)</p>\n<p><br /><span style='text-decoration: underline
 \;'><strong>AM Snack</strong></span></p>\n<p>1 individiual pk Teddy Graham
 s<br />4 oz Water (8 oz for ages 6-12)</p>\n<p><br /><span style='text-dec
 oration: underline\;'><strong>Lunch</strong></span></p>\n<p>1 1/2 - 2 oz C
 hicken Nuggets<br />WW Roll<br />1/4-1./2 cup Broccoli<br />1/4 cup Fruit 
 Cocktail<br />6 oz.1% Milk (ages 6-12 8 oz)</p>\n<p><br /><span style='tex
 t-decoration: underline\;'><strong>PM Snack</strong></span></p>\n<p>1 pack
  Lorne Doone Cookies 1.5 oz<br />4 oz 1% Milk (8 oz for ages 6-12)</p>
END:VEVENT
END:VCALENDAR
