BEGIN:VCALENDAR
VERSION:2.0
PRODID:-//https://www.denbighchristianacademy.com//NONSGML kigkonsult.se iC
 alcreator 2.29.29//
CALSCALE:GREGORIAN
METHOD:PUBLISH
UID:c54490e1-d75b-49e0-80b9-b0a57e4a9d50
X-WR-CALNAME:JCal Pro Calendar
X-WR-CALDESC:Your online events calendar
X-WR-TIMEZONE:UTC
BEGIN:VTIMEZONE
TZID:UTC
END:VTIMEZONE
BEGIN:VEVENT
UID:20220510T160000UTC-3350vzxu6U@https://www.denbighchristianacademy.com/
DTSTAMP:20260425T215137Z
CATEGORIES:School Menu
DESCRIPTION:<p><span style='text-decoration: underline\;'><strong>Breakfast
 </strong></span></p>\n<p>3.5 oz Cheese Omelet or<br />1 - 2 oz Turkey Saus
 age Links<br />1/4-1/2 cup Tropical Fruit<br />1/4-1/2 cup Cereal (optiona
 l)<br />6 oz. 1% Milk (8 oz for ages 6-12)</p>\n<p><br /><span style='text
 -decoration: underline\;'><strong>AM Snack</strong></span></p>\n<p>1/4-1/2
  cup WG Ritz Crackers w/Cheese Cubes<br />4 oz Water (8 oz for ages 6-12)<
 /p>\n<p><br /><span style='text-decoration: underline\;'><strong>Lunch</st
 rong></span></p>\n<p>1 1/2 - 2 oz Meat &amp\; Sauce Nachos<br />1/4-1/2 cu
 p&nbsp\; Seasoned Corn<br />1/4 cup Tropical Fruit<br />6 oz.1% Milk (ages
  6-12 8 oz)</p>\n<p><br /><span style='text-decoration: underline\;'><stro
 ng>PM Snack</strong></span></p>\n<p>1 1/2 oz package Lorne Doone Cookies<b
 r />4 oz 1% Milk (8 oz for ages 6-12)</p>
DTSTART:20220510T000000Z
DTEND:20220510T235959Z
SUMMARY:Tuesday
URL:https://www.denbighchristianacademy.com/index.php/school-calendar/lunch
 -menu/10-school-menu/854-tuesday
X-ALT-DESC;FMTTYPE=TEXT/HTML:<p><span style='text-decoration: underline\;'>
 <strong>Breakfast</strong></span></p>\n<p>3.5 oz Cheese Omelet or<br />1 -
  2 oz Turkey Sausage Links<br />1/4-1/2 cup Tropical Fruit<br />1/4-1/2 cu
 p Cereal (optional)<br />6 oz. 1% Milk (8 oz for ages 6-12)</p>\n<p><br />
 <span style='text-decoration: underline\;'><strong>AM Snack</strong></span
 ></p>\n<p>1/4-1/2 cup WG Ritz Crackers w/Cheese Cubes<br />4 oz Water (8 o
 z for ages 6-12)</p>\n<p><br /><span style='text-decoration: underline\;'>
 <strong>Lunch</strong></span></p>\n<p>1 1/2 - 2 oz Meat &amp\; Sauce Nacho
 s<br />1/4-1/2 cup&nbsp\; Seasoned Corn<br />1/4 cup Tropical Fruit<br />6
  oz.1% Milk (ages 6-12 8 oz)</p>\n<p><br /><span style='text-decoration: u
 nderline\;'><strong>PM Snack</strong></span></p>\n<p>1 1/2 oz package Lorn
 e Doone Cookies<br />4 oz 1% Milk (8 oz for ages 6-12)</p>
END:VEVENT
END:VCALENDAR
