BEGIN:VCALENDAR
VERSION:2.0
PRODID:-//https://www.denbighchristianacademy.com//NONSGML kigkonsult.se iC
 alcreator 2.29.29//
CALSCALE:GREGORIAN
METHOD:PUBLISH
UID:93af1171-1726-487d-9d37-aa42505f4c5b
X-WR-CALNAME:JCal Pro Calendar
X-WR-CALDESC:Your online events calendar
X-WR-TIMEZONE:UTC
BEGIN:VTIMEZONE
TZID:UTC
END:VTIMEZONE
BEGIN:VEVENT
UID:20220411T140000UTC-6842WKhiGf@https://www.denbighchristianacademy.com/
DTSTAMP:20260425T194229Z
CATEGORIES:School Menu
DESCRIPTION:<p><span style='text-decoration: underline\;'><strong>Breakfast
 </strong></span></p>\n<p>1 1/2 oz Belgian Waffle<br />1/4-1/2 cup Mandarin
  Orange<br />1/4-1/2 cup Cereal (optional)<br />6 oz. 1% Milk (8 oz for ag
 es 6-12)</p>\n<p><br /><span style='text-decoration: underline\;'><strong>
 AM Snack</strong></span></p>\n<p>1/4-1/2 cup WG Cheez-it Crackers<br />4 o
 z 1% Milk (8 oz for ages 6-12)</p>\n<p><br /><span style='text-decoration:
  underline\;'><strong>Lunch</strong></span></p>\n<p>1 1/2 - 2 oz Chicken T
 enders<br />WW Bread<br />1/4-1/2 cup Broccoli<br />1/4 cup Pineapple<br /
 >6 oz.1% Milk (ages 6-12 8 oz)</p>\n<p><br /><span style='text-decoration:
  underline\;'><strong>PM Snack</strong></span></p>\n<p>1.3 oz Nutri Grain 
 Bar<br />4 oz 1% Milk (8 oz for ages 6-12)</p>
DTSTART:20220411T000000Z
DTEND:20220411T235959Z
SUMMARY:Monday
URL:https://www.denbighchristianacademy.com/index.php/school-calendar/lunch
 -menu/10-school-menu/834-monday
X-ALT-DESC;FMTTYPE=TEXT/HTML:<p><span style='text-decoration: underline\;'>
 <strong>Breakfast</strong></span></p>\n<p>1 1/2 oz Belgian Waffle<br />1/4
 -1/2 cup Mandarin Orange<br />1/4-1/2 cup Cereal (optional)<br />6 oz. 1% 
 Milk (8 oz for ages 6-12)</p>\n<p><br /><span style='text-decoration: unde
 rline\;'><strong>AM Snack</strong></span></p>\n<p>1/4-1/2 cup WG Cheez-it 
 Crackers<br />4 oz 1% Milk (8 oz for ages 6-12)</p>\n<p><br /><span style=
 'text-decoration: underline\;'><strong>Lunch</strong></span></p>\n<p>1 1/2
  - 2 oz Chicken Tenders<br />WW Bread<br />1/4-1/2 cup Broccoli<br />1/4 c
 up Pineapple<br />6 oz.1% Milk (ages 6-12 8 oz)</p>\n<p><br /><span style=
 'text-decoration: underline\;'><strong>PM Snack</strong></span></p>\n<p>1.
 3 oz Nutri Grain Bar<br />4 oz 1% Milk (8 oz for ages 6-12)</p>
END:VEVENT
END:VCALENDAR
