BEGIN:VCALENDAR
VERSION:2.0
PRODID:-//https://www.denbighchristianacademy.com//NONSGML kigkonsult.se iC
 alcreator 2.29.29//
CALSCALE:GREGORIAN
METHOD:PUBLISH
UID:a850aa0d-1316-4ccd-b9be-22a9b8af158f
X-WR-CALNAME:JCal Pro Calendar
X-WR-CALDESC:Your online events calendar
X-WR-TIMEZONE:UTC
BEGIN:VTIMEZONE
TZID:UTC
END:VTIMEZONE
BEGIN:VEVENT
UID:20220117T190000UTC-8652EBhuTU@http://www.denbighchristianacademy.com/
DTSTAMP:20260425T154253Z
CATEGORIES:School Menu
DESCRIPTION:<p>Closed for Martin Luther King Day</p>
DTSTART:20220117T000000Z
DTEND:20220117T235959Z
SUMMARY:Monday - CLOSED
URL:https://www.denbighchristianacademy.com/index.php/school-calendar/lunch
 -menu/10-school-menu/777-monday-closed
X-ALT-DESC;FMTTYPE=TEXT/HTML:<p>Closed for Martin Luther King Day</p>
END:VEVENT
END:VCALENDAR
