BEGIN:VCALENDAR
VERSION:2.0
PRODID:-//https://www.denbighchristianacademy.com//NONSGML kigkonsult.se iC
 alcreator 2.29.29//
CALSCALE:GREGORIAN
METHOD:PUBLISH
UID:c81417d5-4e5e-4880-9c25-bf64a1216063
X-WR-CALNAME:JCal Pro Calendar
X-WR-CALDESC:Your online events calendar
X-WR-TIMEZONE:UTC
BEGIN:VTIMEZONE
TZID:UTC
END:VTIMEZONE
BEGIN:VEVENT
UID:20210629T130000UTC-5245AND1Ww@http://www.denbighchristianacademy.com/
DTSTAMP:20260425T030759Z
CATEGORIES:School Menu
DESCRIPTION:<p><span style='text-decoration: underline\;'><strong>Breakfast
 </strong></span></p>\n<p>3.5 oz cheese Omelet or<br />1 - 2 oz Turkey Saus
 age<br />1/4-1/2 cup Tropical Fruit<br />1/4-1/2 cup Cereal (optional)<br 
 />6 oz. 1% Milk (8 oz for ages 6-12)</p>\n<p><br /><span style='text-decor
 ation: underline\;'><strong>AM Snack</strong></span></p>\n<p>1/4-1/2 cup W
 G Rice Crisps<br />4 oz 1% Milk (8 oz for ages 6-12)</p>\n<p><br /><span s
 tyle='text-decoration: underline\;'><strong>Lunch</strong></span></p>\n<p>
 1 1/2 - 2 oz Meat Loaf<br />1/4-1/2 cup Mashed Potatoes<br />1/4-1/2 cup G
 reen Beans<br />1/4 cup Tropical Fruit<br />6 oz.1% Milk (ages 6-12 8 oz)<
 /p>\n<p><br /><span style='text-decoration: underline\;'><strong>PM Snack<
 /strong></span></p>\n<p>1 1/2 oz Package Lorne Doone Cookies<br />4 oz 1% 
 Milk (8 oz for ages 6-12)</p>
DTSTART:20210629T000000Z
DTEND:20210629T235959Z
SUMMARY:Tuesday
URL:https://www.denbighchristianacademy.com/index.php/school-calendar/lunch
 -menu/10-school-menu/587-tuesday
X-ALT-DESC;FMTTYPE=TEXT/HTML:<p><span style='text-decoration: underline\;'>
 <strong>Breakfast</strong></span></p>\n<p>3.5 oz cheese Omelet or<br />1 -
  2 oz Turkey Sausage<br />1/4-1/2 cup Tropical Fruit<br />1/4-1/2 cup Cere
 al (optional)<br />6 oz. 1% Milk (8 oz for ages 6-12)</p>\n<p><br /><span 
 style='text-decoration: underline\;'><strong>AM Snack</strong></span></p>
 \n<p>1/4-1/2 cup WG Rice Crisps<br />4 oz 1% Milk (8 oz for ages 6-12)</p>
 \n<p><br /><span style='text-decoration: underline\;'><strong>Lunch</stron
 g></span></p>\n<p>1 1/2 - 2 oz Meat Loaf<br />1/4-1/2 cup Mashed Potatoes<
 br />1/4-1/2 cup Green Beans<br />1/4 cup Tropical Fruit<br />6 oz.1% Milk
  (ages 6-12 8 oz)</p>\n<p><br /><span style='text-decoration: underline\;'
 ><strong>PM Snack</strong></span></p>\n<p>1 1/2 oz Package Lorne Doone Coo
 kies<br />4 oz 1% Milk (8 oz for ages 6-12)</p>
END:VEVENT
END:VCALENDAR
