BEGIN:VCALENDAR
VERSION:2.0
PRODID:-//https://www.denbighchristianacademy.com//NONSGML kigkonsult.se iC
 alcreator 2.29.29//
CALSCALE:GREGORIAN
METHOD:PUBLISH
UID:3a670abe-c12c-416c-bb43-24602149308d
X-WR-CALNAME:JCal Pro Calendar
X-WR-CALDESC:Your online events calendar
X-WR-TIMEZONE:UTC
BEGIN:VTIMEZONE
TZID:UTC
END:VTIMEZONE
BEGIN:VEVENT
UID:20210527T160000UTC-3586ZXkW25@http://www.denbighchristianacademy.com/
DTSTAMP:20260425T014359Z
CATEGORIES:School Menu
DESCRIPTION:<p><span style='text-decoration: underline\;'><strong>Breakfast
 </strong></span></p>\n<p>1/4-1/2 cup Oatmeal<br />1/4-1/2 cup Pineapple<br
  />1/4-1/2 cup Cereal (optional)<br />6 oz. 1% Milk (8 oz for ages 6-12)</
 p>\n<p><br /><span style='text-decoration: underline\;'><strong>AM Snack</
 strong></span></p>\n<p>1 pack Teddy Graham Crackers<br />4 oz 1% Milk (8 o
 z for ages 6-12)</p>\n<p><br /><span style='text-decoration: underline\;'>
 <strong>Lunch</strong></span></p>\n<p>1 1/2 - 2 oz Ravioli<br />1/4-1/2 cu
 p Salad Mix &amp\; Dressing<br />1/2 - 1 Garlic Breadstick<br />1/4 cup Pi
 neapples<br />6 oz.1% Milk (ages 6-12 8 oz)</p>\n<p><br /><span style='tex
 t-decoration: underline\;'><strong>PM Snack</strong></span></p>\n<p>1 WG N
 utri Grain Bar (1.3 oz)<br />4 oz 100% Apple Juice (8 oz for ages 6-12)</p
 >
DTSTART:20210527T000000Z
DTEND:20210527T235959Z
SUMMARY:Thursday
URL:https://www.denbighchristianacademy.com/index.php/school-calendar/lunch
 -menu/10-school-menu/564-thursday
X-ALT-DESC;FMTTYPE=TEXT/HTML:<p><span style='text-decoration: underline\;'>
 <strong>Breakfast</strong></span></p>\n<p>1/4-1/2 cup Oatmeal<br />1/4-1/2
  cup Pineapple<br />1/4-1/2 cup Cereal (optional)<br />6 oz. 1% Milk (8 oz
  for ages 6-12)</p>\n<p><br /><span style='text-decoration: underline\;'><
 strong>AM Snack</strong></span></p>\n<p>1 pack Teddy Graham Crackers<br />
 4 oz 1% Milk (8 oz for ages 6-12)</p>\n<p><br /><span style='text-decorati
 on: underline\;'><strong>Lunch</strong></span></p>\n<p>1 1/2 - 2 oz Raviol
 i<br />1/4-1/2 cup Salad Mix &amp\; Dressing<br />1/2 - 1 Garlic Breadstic
 k<br />1/4 cup Pineapples<br />6 oz.1% Milk (ages 6-12 8 oz)</p>\n<p><br /
 ><span style='text-decoration: underline\;'><strong>PM Snack</strong></spa
 n></p>\n<p>1 WG Nutri Grain Bar (1.3 oz)<br />4 oz 100% Apple Juice (8 oz 
 for ages 6-12)</p>
END:VEVENT
END:VCALENDAR
