BEGIN:VCALENDAR
VERSION:2.0
PRODID:-//https://www.denbighchristianacademy.com//NONSGML kigkonsult.se iC
 alcreator 2.29.29//
CALSCALE:GREGORIAN
METHOD:PUBLISH
UID:ca673a0d-c529-43f9-87e1-05167cbff5c7
X-WR-CALNAME:JCal Pro Calendar
X-WR-CALDESC:Your online events calendar
X-WR-TIMEZONE:UTC
BEGIN:VTIMEZONE
TZID:UTC
END:VTIMEZONE
BEGIN:VEVENT
UID:20210414T170000UTC-191031ZvLu@http://www.denbighchristianacademy.com/
DTSTAMP:20260425T000945Z
CATEGORIES:School Menu
DESCRIPTION:<p><span style='text-decoration: underline\;'><strong>Breakfast
 </strong></span></p>\n<p>2 - 4 French Toast Sticks<br />1/4-1/2 cup Pears<
 br />1/4-1/2 cup Cereal (optional)<br />6 oz. 1% Milk (8 oz for ages 6-12)
 </p>\n<p><br /><span style='text-decoration: underline\;'><strong>AM Snack
 </strong></span></p>\n<p>1/4-1/2 cup Carrots w/Ranch Dressing<br />4 oz 1%
  Milk (8 oz for ages 6-12)</p>\n<p><br /><span style='text-decoration: und
 erline\;'><strong>Lunch</strong></span></p>\n<p>1 1/2 - 2 ox Salisbury Ste
 ak w/Gravy<br />1/4-1/2 cup Mashed Potatoes<br />1/4-1/2 cup Peas &amp\; C
 arrots<br />1/4 cup Pears<br />1 - 2 WW Rolls<br />6 oz.1% Milk (ages 6-12
  8 oz)</p>\n<p><br /><span style='text-decoration: underline\;'><strong>PM
  Snack</strong></span></p>\n<p>1 - 2 oz Oatmeal Cookies<br />4 oz 100% App
 le Juice (8 oz for ages 6-12)</p>
DTSTART:20210414T000000Z
DTEND:20210414T235959Z
SUMMARY:Wednesday
URL:https://www.denbighchristianacademy.com/index.php/school-calendar/lunch
 -menu/10-school-menu/533-wednesday
X-ALT-DESC;FMTTYPE=TEXT/HTML:<p><span style='text-decoration: underline\;'>
 <strong>Breakfast</strong></span></p>\n<p>2 - 4 French Toast Sticks<br />1
 /4-1/2 cup Pears<br />1/4-1/2 cup Cereal (optional)<br />6 oz. 1% Milk (8 
 oz for ages 6-12)</p>\n<p><br /><span style='text-decoration: underline\;'
 ><strong>AM Snack</strong></span></p>\n<p>1/4-1/2 cup Carrots w/Ranch Dres
 sing<br />4 oz 1% Milk (8 oz for ages 6-12)</p>\n<p><br /><span style='tex
 t-decoration: underline\;'><strong>Lunch</strong></span></p>\n<p>1 1/2 - 2
  ox Salisbury Steak w/Gravy<br />1/4-1/2 cup Mashed Potatoes<br />1/4-1/2 
 cup Peas &amp\; Carrots<br />1/4 cup Pears<br />1 - 2 WW Rolls<br />6 oz.1
 % Milk (ages 6-12 8 oz)</p>\n<p><br /><span style='text-decoration: underl
 ine\;'><strong>PM Snack</strong></span></p>\n<p>1 - 2 oz Oatmeal Cookies<b
 r />4 oz 100% Apple Juice (8 oz for ages 6-12)</p>
END:VEVENT
END:VCALENDAR
