BEGIN:VCALENDAR
VERSION:2.0
PRODID:-//https://www.denbighchristianacademy.com//NONSGML kigkonsult.se iC
 alcreator 2.29.29//
CALSCALE:GREGORIAN
METHOD:PUBLISH
UID:7290aaf1-4256-4a53-a87e-5c6677e58ccc
X-WR-CALNAME:JCal Pro Calendar
X-WR-CALDESC:Your online events calendar
X-WR-TIMEZONE:UTC
BEGIN:VTIMEZONE
TZID:UTC
END:VTIMEZONE
BEGIN:VEVENT
UID:20210105T150000UTC-6957wV5J8z@http://www.denbighchristianacademy.com/
DTSTAMP:20260424T162904Z
CATEGORIES:School Menu
DESCRIPTION:<p><span style='text-decoration: underline\;'><strong>Breakfast
 </strong></span></p>\n<p>1/4-1/2 cup Beef Gravy &amp\; Biscuit<br />1/4-1/
 2 cup Peaches<br />Cereal (optional)<br />6 oz. 1% Milk (8 oz for ages 6-1
 2)</p>\n<p><br /><span style='text-decoration: underline\;'><strong>AM Sna
 ck</strong></span></p>\n<p>1/4 cup Ritz Crackers &amp\;<br />1/2 oz Cheese
  Cubes<br />4 oz Water (8 oz for ages 6-12)</p>\n<p><br /><span style='tex
 t-decoration: underline\;'><strong>Lunch</strong></span></p>\n<p>1 1/2 oz 
 Nachos with Tortilla Chips\,<br />Meat\, and Cheese<br />1/4 cup Seasoned 
 Corn<br />1/4 cup Peaches<br />6 oz.1% Milk (ages 6-12 8 oz)</p>\n<p><br /
 ><span style='text-decoration: underline\;'><strong>PM Snack</strong></spa
 n></p>\n<p>1 Nutri Grain Bar<br />4 oz 1% Milk (8 oz for ages 6-12)</p>
DTSTART:20210105T000000Z
DTEND:20210105T235959Z
SUMMARY:Tuesday
URL:https://www.denbighchristianacademy.com/index.php/school-calendar/lunch
 -menu/10-school-menu/464-tuesday
X-ALT-DESC;FMTTYPE=TEXT/HTML:<p><span style='text-decoration: underline\;'>
 <strong>Breakfast</strong></span></p>\n<p>1/4-1/2 cup Beef Gravy &amp\; Bi
 scuit<br />1/4-1/2 cup Peaches<br />Cereal (optional)<br />6 oz. 1% Milk (
 8 oz for ages 6-12)</p>\n<p><br /><span style='text-decoration: underline\
 ;'><strong>AM Snack</strong></span></p>\n<p>1/4 cup Ritz Crackers &amp\;<b
 r />1/2 oz Cheese Cubes<br />4 oz Water (8 oz for ages 6-12)</p>\n<p><br /
 ><span style='text-decoration: underline\;'><strong>Lunch</strong></span><
 /p>\n<p>1 1/2 oz Nachos with Tortilla Chips\,<br />Meat\, and Cheese<br />
 1/4 cup Seasoned Corn<br />1/4 cup Peaches<br />6 oz.1% Milk (ages 6-12 8 
 oz)</p>\n<p><br /><span style='text-decoration: underline\;'><strong>PM Sn
 ack</strong></span></p>\n<p>1 Nutri Grain Bar<br />4 oz 1% Milk (8 oz for 
 ages 6-12)</p>
END:VEVENT
END:VCALENDAR
