BEGIN:VCALENDAR
VERSION:2.0
PRODID:-//https://www.denbighchristianacademy.com//NONSGML kigkonsult.se iC
 alcreator 2.29.29//
CALSCALE:GREGORIAN
METHOD:PUBLISH
UID:4e373cfd-5bcf-413a-974d-ba91b5097302
X-WR-CALNAME:JCal Pro Calendar
X-WR-CALDESC:Your online events calendar
X-WR-TIMEZONE:UTC
BEGIN:VTIMEZONE
TZID:UTC
END:VTIMEZONE
BEGIN:VEVENT
UID:20210104T140000UTC-46669eFMDx@http://www.denbighchristianacademy.com/
DTSTAMP:20260424T175600Z
CATEGORIES:School Menu
DESCRIPTION:<p><span style='text-decoration: underline\;'><strong>Breakfast
 </strong></span></p>\n<p>Bagels &amp\; Cream Cheese<br />1/4-1/2 cup Pinea
 pple<br />Cereal (optional)<br />6 oz. 1% Milk (8 oz for ages 6-12)</p>\n<
 p><br /><span style='text-decoration: underline\;'><strong>AM Snack</stron
 g></span></p>\n<p>1/4 cup Pretzels<br />4 oz 1% Milk (8 oz for ages 6-12)<
 /p>\n<p><br /><span style='text-decoration: underline\;'><strong>Lunch</st
 rong></span></p>\n<p>1 1/2 oz Chicken Nuggets<br />1/4 cup Vegetable Sprin
 g Blend<br />1/4 cup Tropical Fruit<br />6 oz.1% Milk (ages 6-12 8 oz)</p>
 \n<p><br /><span style='text-decoration: underline\;'><strong>PM Snack</st
 rong></span></p>\n<p>1/4 cup Nilla Wafers<br />4 oz 1% Milk (8 oz for ages
  6-12)</p>
DTSTART:20210104T000000Z
DTEND:20210104T235959Z
SUMMARY:Monday
URL:https://www.denbighchristianacademy.com/index.php/school-calendar/lunch
 -menu/10-school-menu/468-monday
X-ALT-DESC;FMTTYPE=TEXT/HTML:<p><span style='text-decoration: underline\;'>
 <strong>Breakfast</strong></span></p>\n<p>Bagels &amp\; Cream Cheese<br />
 1/4-1/2 cup Pineapple<br />Cereal (optional)<br />6 oz. 1% Milk (8 oz for 
 ages 6-12)</p>\n<p><br /><span style='text-decoration: underline\;'><stron
 g>AM Snack</strong></span></p>\n<p>1/4 cup Pretzels<br />4 oz 1% Milk (8 o
 z for ages 6-12)</p>\n<p><br /><span style='text-decoration: underline\;'>
 <strong>Lunch</strong></span></p>\n<p>1 1/2 oz Chicken Nuggets<br />1/4 cu
 p Vegetable Spring Blend<br />1/4 cup Tropical Fruit<br />6 oz.1% Milk (ag
 es 6-12 8 oz)</p>\n<p><br /><span style='text-decoration: underline\;'><st
 rong>PM Snack</strong></span></p>\n<p>1/4 cup Nilla Wafers<br />4 oz 1% Mi
 lk (8 oz for ages 6-12)</p>
END:VEVENT
END:VCALENDAR
