BEGIN:VCALENDAR
VERSION:2.0
PRODID:-//https://www.denbighchristianacademy.com//NONSGML kigkonsult.se iC
 alcreator 2.29.29//
CALSCALE:GREGORIAN
METHOD:PUBLISH
UID:ad2b1d1d-beec-4705-b559-b19b397d639f
X-WR-CALNAME:JCal Pro Calendar
X-WR-CALDESC:Your online events calendar
X-WR-TIMEZONE:UTC
BEGIN:VTIMEZONE
TZID:UTC
END:VTIMEZONE
BEGIN:VEVENT
UID:20201211T170000UTC-9381rtxoMU@http://www.denbighchristianacademy.com/
DTSTAMP:20260424T164721Z
CATEGORIES:School Menu
DESCRIPTION:<p><span style='text-decoration: underline\;'><strong>Breakfast
 </strong></span></p>\n<p>Turkey and Sausage Biscuit<br />1/4-1/2 cup Peach
 es<br />Cereal (optional)<br />6 oz. 1% Milk (8 oz for ages 6-12)</p>\n<p>
 <br /><span style='text-decoration: underline\;'><strong>AM Snack</strong>
 </span></p>\n<p>1/4 cup Whole Grain Ritz Cheese Crispers<br />4 oz 1% Milk
  (8 oz for ages 6-12)</p>\n<p><br /><span style='text-decoration: underlin
 e\;'><strong>Lunch</strong></span></p>\n<p>1 1/2 oz Beef and Macaroni<br /
 >1/4 cup Green Peas<br />1/4 cup Mixed Fruit<br />6 oz.1% Milk (ages 6-12 
 8 oz)</p>\n<p><br /><span style='text-decoration: underline\;'><strong>PM 
 Snack</strong></span></p>\n<p>1 Oatmeal Cookie<br />4 oz 1% Milk (8 oz for
  ages 6-12)</p>
DTSTART:20201211T170000Z
DTEND:20201211T180000Z
SUMMARY:Friday
URL:https://www.denbighchristianacademy.com/index.php/school-calendar/lunch
 -menu/10-school-menu/457-friday
X-ALT-DESC;FMTTYPE=TEXT/HTML:<p><span style='text-decoration: underline\;'>
 <strong>Breakfast</strong></span></p>\n<p>Turkey and Sausage Biscuit<br />
 1/4-1/2 cup Peaches<br />Cereal (optional)<br />6 oz. 1% Milk (8 oz for ag
 es 6-12)</p>\n<p><br /><span style='text-decoration: underline\;'><strong>
 AM Snack</strong></span></p>\n<p>1/4 cup Whole Grain Ritz Cheese Crispers<
 br />4 oz 1% Milk (8 oz for ages 6-12)</p>\n<p><br /><span style='text-dec
 oration: underline\;'><strong>Lunch</strong></span></p>\n<p>1 1/2 oz Beef 
 and Macaroni<br />1/4 cup Green Peas<br />1/4 cup Mixed Fruit<br />6 oz.1%
  Milk (ages 6-12 8 oz)</p>\n<p><br /><span style='text-decoration: underli
 ne\;'><strong>PM Snack</strong></span></p>\n<p>1 Oatmeal Cookie<br />4 oz 
 1% Milk (8 oz for ages 6-12)</p>
END:VEVENT
END:VCALENDAR
