BEGIN:VCALENDAR
VERSION:2.0
PRODID:-//https://www.denbighchristianacademy.com//NONSGML kigkonsult.se iC
 alcreator 2.29.29//
CALSCALE:GREGORIAN
METHOD:PUBLISH
UID:d483943e-8587-4227-bd24-64d4e38e7d8c
X-WR-CALNAME:JCal Pro Calendar
X-WR-CALDESC:Your online events calendar
X-WR-TIMEZONE:UTC
BEGIN:VTIMEZONE
TZID:UTC
END:VTIMEZONE
BEGIN:VEVENT
UID:20200626T170000UTC-6734hNzHbl@http://www.denbighchristianacademy.com/
DTSTAMP:20260424T211027Z
CATEGORIES:School Menu
DESCRIPTION:<p>DCA closed for Independence Day.</p>
DTSTART:20200703T000000Z
DTEND:20200703T235959Z
SUMMARY:Friday - DCA Closed
URL:https://www.denbighchristianacademy.com/index.php/school-calendar/lunch
 -menu/10-school-menu/339-friday-dca-closed-for-independence-day
X-ALT-DESC;FMTTYPE=TEXT/HTML:<p>DCA closed for Independence Day.</p>
END:VEVENT
END:VCALENDAR
