BEGIN:VCALENDAR
VERSION:2.0
PRODID:-//https://www.denbighchristianacademy.com//NONSGML kigkonsult.se iC
 alcreator 2.29.29//
CALSCALE:GREGORIAN
METHOD:PUBLISH
UID:fb691104-09fa-4330-9f1f-e43b5a8238d7
X-WR-CALNAME:JCal Pro Calendar
X-WR-CALDESC:Your online events calendar
X-WR-TIMEZONE:UTC
BEGIN:VTIMEZONE
TZID:UTC
END:VTIMEZONE
BEGIN:VEVENT
UID:20200702T170000UTC-6403cVcHRp@http://www.denbighchristianacademy.com/
DTSTAMP:20260424T162904Z
CATEGORIES:School Menu
DESCRIPTION:<p><span style='text-decoration: underline\;'><strong>Breakfast
 </strong></span></p>\n<p>1/4-1/2 cup Oatmeal<br />1/4-1/2 cup Fruit Cockta
 il<br />Cereal (optional)<br />6 oz. 1% Milk (8 oz for ages 6-12)</p>\n<p>
 <br /><span style='text-decoration: underline\;'><strong>AM Snack</strong>
 </span></p>\n<p>1/4 cup Teddy Graham Crackers<br />4 oz 1% Milk (8 oz for 
 ages 6-12)</p>\n<p><br /><span style='text-decoration: underline\;'><stron
 g>Lunch</strong></span></p>\n<p>1 1/2 oz Beef Franks<br />Whole Wheat Brea
 d<br />1/4 cup Baked Beans<br />1/4 cup Peaches<br />6 oz.1% Milk (ages 6-
 12 8 oz)</p>\n<p><br /><span style='text-decoration: underline\;'><strong>
 PM Snack</strong></span></p>\n<p>1 Nutri Grain Bar<br />4 oz 1% Milk (8 oz
  for ages 6-12)</p>
DTSTART:20200702T000000Z
DTEND:20200702T235959Z
SUMMARY:Thursday
URL:https://www.denbighchristianacademy.com/index.php/school-calendar/lunch
 -menu/10-school-menu/338-thursday
X-ALT-DESC;FMTTYPE=TEXT/HTML:<p><span style='text-decoration: underline\;'>
 <strong>Breakfast</strong></span></p>\n<p>1/4-1/2 cup Oatmeal<br />1/4-1/2
  cup Fruit Cocktail<br />Cereal (optional)<br />6 oz. 1% Milk (8 oz for ag
 es 6-12)</p>\n<p><br /><span style='text-decoration: underline\;'><strong>
 AM Snack</strong></span></p>\n<p>1/4 cup Teddy Graham Crackers<br />4 oz 1
 % Milk (8 oz for ages 6-12)</p>\n<p><br /><span style='text-decoration: un
 derline\;'><strong>Lunch</strong></span></p>\n<p>1 1/2 oz Beef Franks<br /
 >Whole Wheat Bread<br />1/4 cup Baked Beans<br />1/4 cup Peaches<br />6 oz
 .1% Milk (ages 6-12 8 oz)</p>\n<p><br /><span style='text-decoration: unde
 rline\;'><strong>PM Snack</strong></span></p>\n<p>1 Nutri Grain Bar<br />4
  oz 1% Milk (8 oz for ages 6-12)</p>
END:VEVENT
END:VCALENDAR
