BEGIN:VCALENDAR
VERSION:2.0
PRODID:-//https://www.denbighchristianacademy.com//NONSGML kigkonsult.se iC
 alcreator 2.29.29//
CALSCALE:GREGORIAN
METHOD:PUBLISH
UID:51df1d3c-eef6-425e-9f28-8442ac1a2e40
X-WR-CALNAME:JCal Pro Calendar
X-WR-CALDESC:Your online events calendar
X-WR-TIMEZONE:UTC
BEGIN:VTIMEZONE
TZID:UTC
END:VTIMEZONE
BEGIN:VEVENT
UID:20200601T180000UTC-8338JrAj8T@http://www.denbighchristianacademy.com/
DTSTAMP:20260424T162941Z
CATEGORIES:School Menu
DESCRIPTION:<p><span style='text-decoration: underline\;'><strong>Breakfast
 </strong></span></p>\n<p>Belgian Waffle<br />1/4-1/2 cup Pineapple<br />Ce
 real (optional)<br />6 oz. 1% Milk (8 oz for ages 6-12)</p>\n<p><br /><spa
 n style='text-decoration: underline\;'><strong>AM Snack</strong></span></p
 >\n<p>1/4 cup Carrots &amp\; Ranch Dressing<br />4 oz 1% Milk (8 oz for ag
 es 6-12)</p>\n<p><br /><span style='text-decoration: underline\;'><strong>
 Lunch</strong></span></p>\n<p>1 1/2 oz Chicken Tenders<br />1 Whole Wheat 
 Roll<br />1/4 cup Sweet Peas<br />1/4 cup Pineapple<br />6 oz.1% Milk (age
 s 6-12 8 oz)</p>\n<p><br /><span style='text-decoration: underline\;'><str
 ong>PM Snack</strong></span></p>\n<p>1 Chocolate Chip Granola Bar<br />4 o
 z 1% Milk (8 oz for ages 6-12)</p>
DTSTART:20200601T000000Z
DTEND:20200601T235959Z
SUMMARY:Monday
URL:https://www.denbighchristianacademy.com/index.php/school-calendar/lunch
 -menu/10-school-menu/285-monday
X-ALT-DESC;FMTTYPE=TEXT/HTML:<p><span style='text-decoration: underline\;'>
 <strong>Breakfast</strong></span></p>\n<p>Belgian Waffle<br />1/4-1/2 cup 
 Pineapple<br />Cereal (optional)<br />6 oz. 1% Milk (8 oz for ages 6-12)</
 p>\n<p><br /><span style='text-decoration: underline\;'><strong>AM Snack</
 strong></span></p>\n<p>1/4 cup Carrots &amp\; Ranch Dressing<br />4 oz 1% 
 Milk (8 oz for ages 6-12)</p>\n<p><br /><span style='text-decoration: unde
 rline\;'><strong>Lunch</strong></span></p>\n<p>1 1/2 oz Chicken Tenders<br
  />1 Whole Wheat Roll<br />1/4 cup Sweet Peas<br />1/4 cup Pineapple<br />
 6 oz.1% Milk (ages 6-12 8 oz)</p>\n<p><br /><span style='text-decoration: 
 underline\;'><strong>PM Snack</strong></span></p>\n<p>1 Chocolate Chip Gra
 nola Bar<br />4 oz 1% Milk (8 oz for ages 6-12)</p>
END:VEVENT
END:VCALENDAR
