BEGIN:VCALENDAR
VERSION:2.0
PRODID:-//https://www.denbighchristianacademy.com//NONSGML kigkonsult.se iC
 alcreator 2.29.29//
CALSCALE:GREGORIAN
METHOD:PUBLISH
UID:08f760ea-26bf-48bb-91e9-3bcfab33ab72
X-WR-CALNAME:JCal Pro Calendar
X-WR-CALDESC:Your online events calendar
X-WR-TIMEZONE:UTC
BEGIN:VTIMEZONE
TZID:UTC
END:VTIMEZONE
BEGIN:VEVENT
UID:20200518T190000UTC-14048CeaWi@http://www.denbighchristianacademy.com/
DTSTAMP:20260424T115549Z
CATEGORIES:School Menu
DESCRIPTION:<p><span style='text-decoration: underline\;'><strong>Breakfast
 </strong></span></p>\n<p>Bagels &amp\; Cream Cheese<br />1/4-1/2 cup Pinea
 pple<br />Cereal (optional)<br />6 oz. 1% Milk (8 oz for ages 6-12)</p>\n<
 p><br /><span style='text-decoration: underline\;'><strong>AM Snack</stron
 g></span></p>\n<p>1/4 cup Oranges<br />4 oz 1% Milk (8 oz for ages 6-12)</
 p>\n<p><br /><span style='text-decoration: underline\;'><strong>Lunch</str
 ong></span></p>\n<p>1 1/2 oz Nachos w/Tortilla Chips\, <br />Meat &amp\; C
 heese<br />1/4 cup Broccoli<br />1/4 cup Pineapple<br />6 oz.1% Milk (ages
  6-12 8 oz)</p>\n<p><br /><span style='text-decoration: underline\;'><stro
 ng>PM Snack</strong></span></p>\n<p>1/4 cup Animal Crackers<br />4 oz 1% M
 ilk (8 oz for ages 6-12)</p>
DTSTART:20200518T000000Z
DTEND:20200518T235959Z
SUMMARY:Monday
URL:https://www.denbighchristianacademy.com/index.php/school-calendar/lunch
 -menu/10-school-menu/239-monday
X-ALT-DESC;FMTTYPE=TEXT/HTML:<p><span style='text-decoration: underline\;'>
 <strong>Breakfast</strong></span></p>\n<p>Bagels &amp\; Cream Cheese<br />
 1/4-1/2 cup Pineapple<br />Cereal (optional)<br />6 oz. 1% Milk (8 oz for 
 ages 6-12)</p>\n<p><br /><span style='text-decoration: underline\;'><stron
 g>AM Snack</strong></span></p>\n<p>1/4 cup Oranges<br />4 oz 1% Milk (8 oz
  for ages 6-12)</p>\n<p><br /><span style='text-decoration: underline\;'><
 strong>Lunch</strong></span></p>\n<p>1 1/2 oz Nachos w/Tortilla Chips\, <b
 r />Meat &amp\; Cheese<br />1/4 cup Broccoli<br />1/4 cup Pineapple<br />6
  oz.1% Milk (ages 6-12 8 oz)</p>\n<p><br /><span style='text-decoration: u
 nderline\;'><strong>PM Snack</strong></span></p>\n<p>1/4 cup Animal Cracke
 rs<br />4 oz 1% Milk (8 oz for ages 6-12)</p>
END:VEVENT
END:VCALENDAR
