BEGIN:VCALENDAR
VERSION:2.0
PRODID:-//https://www.denbighchristianacademy.com//NONSGML kigkonsult.se iC
 alcreator 2.29.29//
CALSCALE:GREGORIAN
METHOD:PUBLISH
UID:df350b87-36b2-467c-a09c-07572c042dd7
X-WR-CALNAME:JCal Pro Calendar
X-WR-CALDESC:Your online events calendar
X-WR-TIMEZONE:UTC
BEGIN:VTIMEZONE
TZID:UTC
END:VTIMEZONE
BEGIN:VEVENT
UID:20200204T190000UTC-7651GhTfK3@http://www.denbighchristianacademy.com/
DTSTAMP:20260424T133059Z
CATEGORIES:School Menu
DESCRIPTION:<p><span style='text-decoration: underline\;'><strong>Breakfast
 </strong></span></p>\n<p>Bagel and Cream Cheese<br />1/4-1/2 cup Pineapple
 <br />Cereal (optional)<br />6 oz. 1% Milk (8 oz for ages 6-12)</p>\n<p><b
 r /><span style='text-decoration: underline\;'><strong>AM Snack</strong></
 span></p>\n<p>1/4 cup Orange Slices<br />1 Graham Cracker<br />4 oz Water 
 (8 oz for ages 6-12)</p>\n<p><br /><span style='text-decoration: underline
 \;'><strong>Lunch</strong></span></p>\n<p>1 1/2 oz BBQ Meat Balls<br />Whi
 te Roll<br />1/4 cup Green Beans<br />1/4 cup Applesauce<br />6 oz.1% Milk
  (ages 6-12 8 oz)</p>\n<p><br /><span style='text-decoration: underline\;'
 ><strong>PM Snack</strong></span></p>\n<p>Lorne Doone Cookies<br />4 oz 1%
  Milk (8 oz for ages 6-12)</p>
DTSTART:20200204T000000Z
DTEND:20200204T235959Z
SUMMARY:Tuesday
URL:https://www.denbighchristianacademy.com/index.php/school-calendar/lunch
 -menu/10-school-menu/169-tuesday
X-ALT-DESC;FMTTYPE=TEXT/HTML:<p><span style='text-decoration: underline\;'>
 <strong>Breakfast</strong></span></p>\n<p>Bagel and Cream Cheese<br />1/4-
 1/2 cup Pineapple<br />Cereal (optional)<br />6 oz. 1% Milk (8 oz for ages
  6-12)</p>\n<p><br /><span style='text-decoration: underline\;'><strong>AM
  Snack</strong></span></p>\n<p>1/4 cup Orange Slices<br />1 Graham Cracker
 <br />4 oz Water (8 oz for ages 6-12)</p>\n<p><br /><span style='text-deco
 ration: underline\;'><strong>Lunch</strong></span></p>\n<p>1 1/2 oz BBQ Me
 at Balls<br />White Roll<br />1/4 cup Green Beans<br />1/4 cup Applesauce<
 br />6 oz.1% Milk (ages 6-12 8 oz)</p>\n<p><br /><span style='text-decorat
 ion: underline\;'><strong>PM Snack</strong></span></p>\n<p>Lorne Doone Coo
 kies<br />4 oz 1% Milk (8 oz for ages 6-12)</p>
END:VEVENT
END:VCALENDAR
