BEGIN:VCALENDAR
VERSION:2.0
PRODID:-//https://www.denbighchristianacademy.com//NONSGML kigkonsult.se iC
 alcreator 2.29.29//
CALSCALE:GREGORIAN
METHOD:PUBLISH
UID:2cc36585-ad6f-40c0-96e1-917610492952
X-WR-CALNAME:JCal Pro Calendar
X-WR-CALDESC:Your online events calendar
X-WR-TIMEZONE:UTC
BEGIN:VTIMEZONE
TZID:UTC
END:VTIMEZONE
BEGIN:VEVENT
UID:20200123T150000UTC-5199NLVXID@http://www.denbighchristianacademy.com/
DTSTAMP:20260424T163029Z
CATEGORIES:School Menu
DESCRIPTION:<p><span style='text-decoration: underline\;'><strong>Breakfast
 </strong></span></p>\n<p>Pancakes<br />1/4-1/2 cup Peaches<br />Cereal (op
 tional)<br />6 oz. 1% Milk (8 oz for ages 6-12)</p>\n<p><br /><span style=
 'text-decoration: underline\;'><strong>AM Snack</strong></span></p>\n<p>1/
 4 cup Fresh Carrots w/1 tsp. Ranch Dip<br />4 oz 1% Milk (8 oz for ages 6-
 12)</p>\n<p><br /><span style='text-decoration: underline\;'><strong>Lunch
 </strong></span></p>\n<p>1 1/2 oz Spaghetti w/Meat Sauce<br />1/4 cup Broc
 coli<br />1/4 cup Peaches<br />6 oz.1% Milk (ages 6-12 8 oz)</p>\n<p><br /
 ><span style='text-decoration: underline\;'><strong>PM Snack</strong></spa
 n></p>\n<p>Lorna Doone Cookies<br />4 oz 1% Milk (8 oz for ages 6-12)</p>
DTSTART:20200123T000000Z
DTEND:20200123T235959Z
SUMMARY:Thursday
URL:https://www.denbighchristianacademy.com/index.php/school-calendar/lunch
 -menu/10-school-menu/162-thursday
X-ALT-DESC;FMTTYPE=TEXT/HTML:<p><span style='text-decoration: underline\;'>
 <strong>Breakfast</strong></span></p>\n<p>Pancakes<br />1/4-1/2 cup Peache
 s<br />Cereal (optional)<br />6 oz. 1% Milk (8 oz for ages 6-12)</p>\n<p><
 br /><span style='text-decoration: underline\;'><strong>AM Snack</strong><
 /span></p>\n<p>1/4 cup Fresh Carrots w/1 tsp. Ranch Dip<br />4 oz 1% Milk 
 (8 oz for ages 6-12)</p>\n<p><br /><span style='text-decoration: underline
 \;'><strong>Lunch</strong></span></p>\n<p>1 1/2 oz Spaghetti w/Meat Sauce<
 br />1/4 cup Broccoli<br />1/4 cup Peaches<br />6 oz.1% Milk (ages 6-12 8 
 oz)</p>\n<p><br /><span style='text-decoration: underline\;'><strong>PM Sn
 ack</strong></span></p>\n<p>Lorna Doone Cookies<br />4 oz 1% Milk (8 oz fo
 r ages 6-12)</p>
END:VEVENT
END:VCALENDAR
