BEGIN:VCALENDAR
VERSION:2.0
PRODID:-//https://www.denbighchristianacademy.com//NONSGML kigkonsult.se iC
 alcreator 2.29.29//
CALSCALE:GREGORIAN
METHOD:PUBLISH
UID:7f4e1d5a-ecdf-46ea-84ec-595812436dc7
X-WR-CALNAME:JCal Pro Calendar
X-WR-CALDESC:Your online events calendar
X-WR-TIMEZONE:UTC
BEGIN:VTIMEZONE
TZID:UTC
END:VTIMEZONE
BEGIN:VEVENT
UID:20200101T190000UTC-0681wlmGLp@http://www.denbighchristianacademy.com/
DTSTAMP:20260424T164722Z
CATEGORIES:School Menu
DESCRIPTION:<p><span style='font-size: 14pt\;'><strong>Closed</strong></spa
 n></p>
DTSTART:20200101T000000Z
DTEND:20200101T235959Z
SUMMARY:Wednesday
URL:https://www.denbighchristianacademy.com/index.php/school-calendar/lunch
 -menu/10-school-menu/145-wednesday
X-ALT-DESC;FMTTYPE=TEXT/HTML:<p><span style='font-size: 14pt\;'><strong>Clo
 sed</strong></span></p>
END:VEVENT
END:VCALENDAR
