BEGIN:VCALENDAR
VERSION:2.0
PRODID:-//https://www.denbighchristianacademy.com//NONSGML kigkonsult.se iC
 alcreator 2.29.29//
CALSCALE:GREGORIAN
METHOD:PUBLISH
UID:0a590f63-b599-4e8e-bc5e-f65815824609
X-WR-CALNAME:JCal Pro Calendar
X-WR-CALDESC:Your online events calendar
X-WR-TIMEZONE:UTC
BEGIN:VTIMEZONE
TZID:UTC
END:VTIMEZONE
BEGIN:VEVENT
UID:20220908T180000UTC-1327a4isVw@https://www.denbighchristianacademy.com/
DTSTAMP:20260426T020724Z
CATEGORIES:School Menu
DESCRIPTION:<p><span style='text-decoration: underline\;'><strong>Breakfast
 </strong></span></p>\n<p>3.5 oz Cheese Omelet<br />1 - 2 oz Turkey Sausage
 <br />1 1/2 - 2 oz WW Toast<br />1/4-1/2 cup Fruit Cocktail<br />1/4-1/2 c
 up Cereal (optional)<br />6 oz. 1% Milk (8 oz for ages 6-12)</p>\n<p><br /
 ><span style='text-decoration: underline\;'><strong>AM Snack</strong></spa
 n></p>\n<p>1 oz WG Ritz Bits w/Cheese<br />4 oz 1% Milk (8 oz for ages 6-1
 2)</p>\n<p><br /><span style='text-decoration: underline\;'><strong>Lunch<
 /strong></span></p>\n<p>1 1/2 - 2 oz Salisbury Steak<br />WW Roll<br />1/4
 -1/2 cup Mixed Vegetables<br />1/4-1/2 cup Mashed Potatoes<br />1/4 cup Fr
 uit Cocktail<br />6 oz.1% Milk (ages 6-12 8 oz)</p>\n<p><br /><span style=
 'text-decoration: underline\;'><strong>PM Snack</strong></span></p>\n<p>1 
 oz Little Bites Muffins<br />4 oz 1% Milk (8 oz for ages 6-12)</p>
DTSTART:20220908T000000Z
DTEND:20220908T235959Z
SUMMARY:Thursday
URL:https://www.denbighchristianacademy.com/index.php/school-calendar/lunch
 -menu/10-school-menu/937-thursday
X-ALT-DESC;FMTTYPE=TEXT/HTML:<p><span style='text-decoration: underline\;'>
 <strong>Breakfast</strong></span></p>\n<p>3.5 oz Cheese Omelet<br />1 - 2 
 oz Turkey Sausage<br />1 1/2 - 2 oz WW Toast<br />1/4-1/2 cup Fruit Cockta
 il<br />1/4-1/2 cup Cereal (optional)<br />6 oz. 1% Milk (8 oz for ages 6-
 12)</p>\n<p><br /><span style='text-decoration: underline\;'><strong>AM Sn
 ack</strong></span></p>\n<p>1 oz WG Ritz Bits w/Cheese<br />4 oz 1% Milk (
 8 oz for ages 6-12)</p>\n<p><br /><span style='text-decoration: underline\
 ;'><strong>Lunch</strong></span></p>\n<p>1 1/2 - 2 oz Salisbury Steak<br /
 >WW Roll<br />1/4-1/2 cup Mixed Vegetables<br />1/4-1/2 cup Mashed Potatoe
 s<br />1/4 cup Fruit Cocktail<br />6 oz.1% Milk (ages 6-12 8 oz)</p>\n<p><
 br /><span style='text-decoration: underline\;'><strong>PM Snack</strong><
 /span></p>\n<p>1 oz Little Bites Muffins<br />4 oz 1% Milk (8 oz for ages 
 6-12)</p>
END:VEVENT
END:VCALENDAR
