BEGIN:VCALENDAR
VERSION:2.0
PRODID:-//https://www.denbighchristianacademy.com//NONSGML kigkonsult.se iC
 alcreator 2.29.29//
CALSCALE:GREGORIAN
METHOD:PUBLISH
UID:092cf284-e15a-4106-ba02-b1a2b7c38cb7
X-WR-CALNAME:JCal Pro Calendar
X-WR-CALDESC:Your online events calendar
X-WR-TIMEZONE:UTC
BEGIN:VTIMEZONE
TZID:UTC
END:VTIMEZONE
BEGIN:VEVENT
UID:20220606T190000UTC-0858SVjnna@https://www.denbighchristianacademy.com/
DTSTAMP:20260425T215259Z
CATEGORIES:School Menu
DESCRIPTION:<p><span style='text-decoration: underline\;'><strong>Breakfast
 </strong></span></p>\n<p>1 1/2 oz Belgian Waffle<br />1/4-1/2 cup Mandarin
  Orange<br />1/4-1/2 cup Cereal (optional)<br />6 oz. 1% Milk (8 oz for ag
 es 6-12)</p>\n<p><br /><span style='text-decoration: underline\;'><strong>
 AM Snack</strong></span></p>\n<p>1/4-1/2 cup WG Cheez-it Crackers<br />4 o
 z 1% Milk (8 oz for ages 6-12)</p>\n<p><br /><span style='text-decoration:
  underline\;'><strong>Lunch</strong></span></p>\n<p>1 1/2 - 2 oz Pulled BB
 Q Chicken<br />1/4-1/2 cup Broccoli<br />1/4 cup Pineapples<br />WW Roll<b
 r />6 oz.1% Milk (ages 6-12 8 oz)</p>\n<p><br /><span style='text-decorati
 on: underline\;'><strong>PM Snack</strong></span></p>\n<p>1.3 oz Nutri Gra
 in Bar<br />4 oz 1% Milk (8 oz for ages 6-12)</p>
DTSTART:20220606T000000Z
DTEND:20220606T235959Z
SUMMARY:Monday
URL:https://www.denbighchristianacademy.com/index.php/school-calendar/lunch
 -menu/10-school-menu/867-monday
X-ALT-DESC;FMTTYPE=TEXT/HTML:<p><span style='text-decoration: underline\;'>
 <strong>Breakfast</strong></span></p>\n<p>1 1/2 oz Belgian Waffle<br />1/4
 -1/2 cup Mandarin Orange<br />1/4-1/2 cup Cereal (optional)<br />6 oz. 1% 
 Milk (8 oz for ages 6-12)</p>\n<p><br /><span style='text-decoration: unde
 rline\;'><strong>AM Snack</strong></span></p>\n<p>1/4-1/2 cup WG Cheez-it 
 Crackers<br />4 oz 1% Milk (8 oz for ages 6-12)</p>\n<p><br /><span style=
 'text-decoration: underline\;'><strong>Lunch</strong></span></p>\n<p>1 1/2
  - 2 oz Pulled BBQ Chicken<br />1/4-1/2 cup Broccoli<br />1/4 cup Pineappl
 es<br />WW Roll<br />6 oz.1% Milk (ages 6-12 8 oz)</p>\n<p><br /><span sty
 le='text-decoration: underline\;'><strong>PM Snack</strong></span></p>\n<p
 >1.3 oz Nutri Grain Bar<br />4 oz 1% Milk (8 oz for ages 6-12)</p>
END:VEVENT
END:VCALENDAR
