BEGIN:VCALENDAR
VERSION:2.0
PRODID:-//https://www.denbighchristianacademy.com//NONSGML kigkonsult.se iC
 alcreator 2.29.29//
CALSCALE:GREGORIAN
METHOD:PUBLISH
UID:3bd99555-13aa-4aa6-ad37-3627d8e528b7
X-WR-CALNAME:JCal Pro Calendar
X-WR-CALDESC:Your online events calendar
X-WR-TIMEZONE:UTC
BEGIN:VTIMEZONE
TZID:UTC
END:VTIMEZONE
BEGIN:VEVENT
UID:20220523T130000UTC-5730hjoj9j@https://www.denbighchristianacademy.com/
DTSTAMP:20260425T200819Z
CATEGORIES:School Menu
DESCRIPTION:<p><span style='text-decoration: underline\;'><strong>Breakfast
 </strong></span></p>\n<p>1/4-1/2 cujp Oatmeal<br />1/4-1/2 cup Mixed Fruit
 <br />1/4-1/2 cup Cereal (optional)<br />6 oz. 1% Milk (8 oz for ages 6-12
 )</p>\n<p><br /><span style='text-decoration: underline\;'><strong>AM Snac
 k</strong></span></p>\n<p>1/4-1/2 cup WW Gold Fish Crackers<br />4 oz 1% M
 ilk (8 oz for ages 6-12)</p>\n<p><br /><span style='text-decoration: under
 line\;'><strong>Lunch</strong></span></p>\n<p><b>Family Fun Day!</b><br />
 1 1/2 - 2 oz Hamburger Patty or Beef Hot Dog<br />on Whole Wheat Bun<br />
 1 oz bag Potato Chips<br />1/4 cup Oreo Cookies<br />6 oz.1% Milk (ages 6-
 12 8 oz)</p>\n<p><br /><span style='text-decoration: underline\;'><strong>
 PM Snack</strong></span></p>\n<p>1/4-1/2 cup Chocolate Chip Cookies<br />4
  oz 1% Milk (8 oz for ages 6-12)</p>
DTSTART:20220527T000000Z
DTEND:20220527T235959Z
SUMMARY:Friday
URL:https://www.denbighchristianacademy.com/index.php/school-calendar/lunch
 -menu/10-school-menu/862-friday
X-ALT-DESC;FMTTYPE=TEXT/HTML:<p><span style='text-decoration: underline\;'>
 <strong>Breakfast</strong></span></p>\n<p>1/4-1/2 cujp Oatmeal<br />1/4-1/
 2 cup Mixed Fruit<br />1/4-1/2 cup Cereal (optional)<br />6 oz. 1% Milk (8
  oz for ages 6-12)</p>\n<p><br /><span style='text-decoration: underline\;
 '><strong>AM Snack</strong></span></p>\n<p>1/4-1/2 cup WW Gold Fish Cracke
 rs<br />4 oz 1% Milk (8 oz for ages 6-12)</p>\n<p><br /><span style='text-
 decoration: underline\;'><strong>Lunch</strong></span></p>\n<p><b>Family F
 un Day!</b><br />1 1/2 - 2 oz Hamburger Patty or Beef Hot Dog<br />on Whol
 e Wheat Bun<br />1 oz bag Potato Chips<br />1/4 cup Oreo Cookies<br />6 oz
 .1% Milk (ages 6-12 8 oz)</p>\n<p><br /><span style='text-decoration: unde
 rline\;'><strong>PM Snack</strong></span></p>\n<p>1/4-1/2 cup Chocolate Ch
 ip Cookies<br />4 oz 1% Milk (8 oz for ages 6-12)</p>
END:VEVENT
END:VCALENDAR
