BEGIN:VCALENDAR
VERSION:2.0
PRODID:-//https://www.denbighchristianacademy.com//NONSGML kigkonsult.se iC
 alcreator 2.29.29//
CALSCALE:GREGORIAN
METHOD:PUBLISH
UID:9f865b7f-63bc-491b-9b04-6ef12b94213a
X-WR-CALNAME:JCal Pro Calendar
X-WR-CALDESC:Your online events calendar
X-WR-TIMEZONE:UTC
BEGIN:VTIMEZONE
TZID:UTC
END:VTIMEZONE
BEGIN:VEVENT
UID:20191011T170000UTC-0384BcSR0W@http://www.denbighchristianacademy.com/
DTSTAMP:20260424T164822Z
CATEGORIES:School Menu
DESCRIPTION:<p><span style='text-decoration: underline\;'><strong>Breakfast
 </strong></span></p>\n<p>1/4 - 1/2 cup Oatmeal<br />1/4-1/2 cup Applesauce
 <br />Cereal (optional)<br />6 oz. 1% Milk (8 oz for ages 6-12)</p>\n<p><b
 r /><span style='text-decoration: underline\;'><strong>AM Snack</strong></
 span></p>\n<p>1/4 cup Ritz Crackers<br />4 oz 1% Milk (8 oz for ages 6-12)
 </p>\n<p><br /><span style='text-decoration: underline\;'><strong>Lunch</s
 trong></span></p>\n<p>1 Slice Ham &amp\; Cheese<br />Whole Wheat Bread<br 
 />1/4 cup Fresh Carrots<br />1/4 cup Broccoli<br />1/4 cup Orange Slices<b
 r />6 oz.1% Milk (ages 6-12 8 oz)</p>\n<p><br /><span style='text-decorati
 on: underline\;'><strong>PM Snack</strong></span></p>\n<p>1 Rice Krispy Tr
 eat<br />4 oz 100% Apple Juice (8 oz for ages 6-12)</p>
DTSTART:20191011T000000Z
DTEND:20191011T235959Z
SUMMARY:Friday
URL:https://www.denbighchristianacademy.com/index.php/school-calendar/lunch
 -menu/10-school-menu/86-friday
X-ALT-DESC;FMTTYPE=TEXT/HTML:<p><span style='text-decoration: underline\;'>
 <strong>Breakfast</strong></span></p>\n<p>1/4 - 1/2 cup Oatmeal<br />1/4-1
 /2 cup Applesauce<br />Cereal (optional)<br />6 oz. 1% Milk (8 oz for ages
  6-12)</p>\n<p><br /><span style='text-decoration: underline\;'><strong>AM
  Snack</strong></span></p>\n<p>1/4 cup Ritz Crackers<br />4 oz 1% Milk (8 
 oz for ages 6-12)</p>\n<p><br /><span style='text-decoration: underline\;'
 ><strong>Lunch</strong></span></p>\n<p>1 Slice Ham &amp\; Cheese<br />Whol
 e Wheat Bread<br />1/4 cup Fresh Carrots<br />1/4 cup Broccoli<br />1/4 cu
 p Orange Slices<br />6 oz.1% Milk (ages 6-12 8 oz)</p>\n<p><br /><span sty
 le='text-decoration: underline\;'><strong>PM Snack</strong></span></p>\n<p
 >1 Rice Krispy Treat<br />4 oz 100% Apple Juice (8 oz for ages 6-12)</p>
END:VEVENT
END:VCALENDAR
