BEGIN:VCALENDAR
VERSION:2.0
PRODID:-//https://www.denbighchristianacademy.com//NONSGML kigkonsult.se iC
 alcreator 2.29.29//
CALSCALE:GREGORIAN
METHOD:PUBLISH
UID:91d0d951-05ef-4a79-8048-db783acf7b87
X-WR-CALNAME:JCal Pro Calendar
X-WR-CALDESC:Your online events calendar
X-WR-TIMEZONE:UTC
BEGIN:VTIMEZONE
TZID:UTC
END:VTIMEZONE
BEGIN:VEVENT
UID:20220221T150000UTC-9869MaG1zN@http://www.denbighchristianacademy.com/
DTSTAMP:20260425T154532Z
CATEGORIES:School Menu
DESCRIPTION:<p>DCA is closed for President's Day</p>
DTSTART:20220221T000000Z
DTEND:20220221T235959Z
SUMMARY:Monday - Closed
URL:https://www.denbighchristianacademy.com/index.php/school-calendar/lunch
 -menu/10-school-menu/803-monday-closed
X-ALT-DESC;FMTTYPE=TEXT/HTML:<p>DCA is closed for President's Day</p>
END:VEVENT
END:VCALENDAR
