BEGIN:VCALENDAR
VERSION:2.0
PRODID:-//https://www.denbighchristianacademy.com//NONSGML kigkonsult.se iC
 alcreator 2.29.29//
CALSCALE:GREGORIAN
METHOD:PUBLISH
UID:9a14f223-be9d-444f-b8a8-f077e28c071b
X-WR-CALNAME:JCal Pro Calendar
X-WR-CALDESC:Your online events calendar
X-WR-TIMEZONE:UTC
BEGIN:VTIMEZONE
TZID:UTC
END:VTIMEZONE
BEGIN:VEVENT
UID:20220120T190000UTC-1458cUd0KW@http://www.denbighchristianacademy.com/
DTSTAMP:20260425T141915Z
CATEGORIES:School Menu
DESCRIPTION:<p><span style='text-decoration: underline\;'><strong>Breakfast
 </strong></span></p>\n<p>1/4-1/2 cup Oatmeal<br />1/4-1/2 cup Fruit Cockta
 il<br />1/4-1/2 cup Cereal (optional)<br />6 oz. 1% Milk (8 oz for ages 6-
 12)</p>\n<p><br /><span style='text-decoration: underline\;'><strong>AM Sn
 ack</strong></span></p>\n<p><span style='text-decoration: underline\;'></s
 pan>1/4-1/2 cup Goldfish Crackers<br />4 oz 1% Milk (8 oz for ages 6-12)</
 p>\n<p><br /><span style='text-decoration: underline\;'><strong>Lunch</str
 ong></span></p>\n<p>1 1/2 - 2 oz Beef &amp\; Macaroni<br />1 WW Roll<br />
 1/4-1/2 cup California Vegetable Blend<br />1/4 cup Fruit Cocktail<br />6 
 oz.1% Milk (ages 6-12 8 oz)</p>\n<p><br /><span style='text-decoration: un
 derline\;'><strong>PM Snack</strong></span></p>\n<p>1 (.78 oz) Bar Rice Kr
 ispy Treat<br />4 oz 1% Milk (8 oz for ages 6-12)</p>
DTSTART:20220120T000000Z
DTEND:20220120T235959Z
SUMMARY:Thursday
URL:https://www.denbighchristianacademy.com/index.php/school-calendar/lunch
 -menu/10-school-menu/780-thursday
X-ALT-DESC;FMTTYPE=TEXT/HTML:<p><span style='text-decoration: underline\;'>
 <strong>Breakfast</strong></span></p>\n<p>1/4-1/2 cup Oatmeal<br />1/4-1/2
  cup Fruit Cocktail<br />1/4-1/2 cup Cereal (optional)<br />6 oz. 1% Milk 
 (8 oz for ages 6-12)</p>\n<p><br /><span style='text-decoration: underline
 \;'><strong>AM Snack</strong></span></p>\n<p><span style='text-decoration:
  underline\;'></span>1/4-1/2 cup Goldfish Crackers<br />4 oz 1% Milk (8 oz
  for ages 6-12)</p>\n<p><br /><span style='text-decoration: underline\;'><
 strong>Lunch</strong></span></p>\n<p>1 1/2 - 2 oz Beef &amp\; Macaroni<br 
 />1 WW Roll<br />1/4-1/2 cup California Vegetable Blend<br />1/4 cup Fruit
  Cocktail<br />6 oz.1% Milk (ages 6-12 8 oz)</p>\n<p><br /><span style='te
 xt-decoration: underline\;'><strong>PM Snack</strong></span></p>\n<p>1 (.7
 8 oz) Bar Rice Krispy Treat<br />4 oz 1% Milk (8 oz for ages 6-12)</p>
END:VEVENT
END:VCALENDAR
