BEGIN:VCALENDAR
VERSION:2.0
PRODID:-//https://www.denbighchristianacademy.com//NONSGML kigkonsult.se iC
 alcreator 2.29.29//
CALSCALE:GREGORIAN
METHOD:PUBLISH
UID:6a00ac7d-10e3-4565-a733-e69b87261c60
X-WR-CALNAME:JCal Pro Calendar
X-WR-CALDESC:Your online events calendar
X-WR-TIMEZONE:UTC
BEGIN:VTIMEZONE
TZID:UTC
END:VTIMEZONE
BEGIN:VEVENT
UID:20220118T190000UTC-2413jxX9pe@http://www.denbighchristianacademy.com/
DTSTAMP:20260425T141914Z
CATEGORIES:School Menu
DESCRIPTION:<p><span style='text-decoration: underline\;'><strong>Breakfast
 </strong></span></p>\n<p>3.5 oz Chese Omelet or<br />1 - 2 oz Turkey Sausa
 ge Patties<br />1/4-1/2 cup Tropical Fruit<br />1/4-1/2 cup Cereal (option
 al)<br />6 oz. 1% Milk (8 oz for ages 6-12)</p>\n<p><br /><span style='tex
 t-decoration: underline\;'><strong>AM Snack</strong></span></p>\n<p>1/4-1/
 2 cup WG Cheese Puffs<br />4 oz 1% Milk (8 oz for ages 6-12)</p>\n<p><br /
 ><span style='text-decoration: underline\;'><strong>Lunch</strong></span><
 /p>\n<p>1 1/2 - 2 oz Beef Franks<br />1/4-1/2 cup Baked Beans<br />1/4 cup
  Tropical Fruit<br />6 oz.1% Milk (ages 6-12 8 oz)</p>\n<p><br /><span sty
 le='text-decoration: underline\;'><strong>PM Snack</strong></span></p>\n<p
 >1 1/2 oz Pack Lorne Doone Cookies<br />4 oz 1% Milk (8 oz for ages 6-12)<
 /p>
DTSTART:20220118T000000Z
DTEND:20220118T235959Z
SUMMARY:Tuesday
URL:https://www.denbighchristianacademy.com/index.php/school-calendar/lunch
 -menu/10-school-menu/778-tuesday
X-ALT-DESC;FMTTYPE=TEXT/HTML:<p><span style='text-decoration: underline\;'>
 <strong>Breakfast</strong></span></p>\n<p>3.5 oz Chese Omelet or<br />1 - 
 2 oz Turkey Sausage Patties<br />1/4-1/2 cup Tropical Fruit<br />1/4-1/2 c
 up Cereal (optional)<br />6 oz. 1% Milk (8 oz for ages 6-12)</p>\n<p><br /
 ><span style='text-decoration: underline\;'><strong>AM Snack</strong></spa
 n></p>\n<p>1/4-1/2 cup WG Cheese Puffs<br />4 oz 1% Milk (8 oz for ages 6-
 12)</p>\n<p><br /><span style='text-decoration: underline\;'><strong>Lunch
 </strong></span></p>\n<p>1 1/2 - 2 oz Beef Franks<br />1/4-1/2 cup Baked B
 eans<br />1/4 cup Tropical Fruit<br />6 oz.1% Milk (ages 6-12 8 oz)</p>\n<
 p><br /><span style='text-decoration: underline\;'><strong>PM Snack</stron
 g></span></p>\n<p>1 1/2 oz Pack Lorne Doone Cookies<br />4 oz 1% Milk (8 o
 z for ages 6-12)</p>
END:VEVENT
END:VCALENDAR
