BEGIN:VCALENDAR
VERSION:2.0
PRODID:-//https://www.denbighchristianacademy.com//NONSGML kigkonsult.se iC
 alcreator 2.29.29//
CALSCALE:GREGORIAN
METHOD:PUBLISH
UID:fcbc6296-9ff9-4b3b-bbc8-2f3ab79673f3
X-WR-CALNAME:JCal Pro Calendar
X-WR-CALDESC:Your online events calendar
X-WR-TIMEZONE:UTC
BEGIN:VTIMEZONE
TZID:UTC
END:VTIMEZONE
BEGIN:VEVENT
UID:20211126T150000UTC-1722DMgaCh@http://www.denbighchristianacademy.com/
DTSTAMP:20260425T111852Z
CATEGORIES:School Menu
DESCRIPTION:<p>CLOSED</p>
DTSTART:20211126T000000Z
DTEND:20211126T235959Z
SUMMARY:Friday - CLOSED
URL:https://www.denbighchristianacademy.com/index.php/school-calendar/lunch
 -menu/10-school-menu/734-friday-closed
X-ALT-DESC;FMTTYPE=TEXT/HTML:<p>CLOSED</p>
END:VEVENT
END:VCALENDAR
