BEGIN:VCALENDAR
VERSION:2.0
PRODID:-//https://www.denbighchristianacademy.com//NONSGML kigkonsult.se iC
 alcreator 2.29.29//
CALSCALE:GREGORIAN
METHOD:PUBLISH
UID:c74464a5-09f1-40e8-a757-f6b19b814874
X-WR-CALNAME:JCal Pro Calendar
X-WR-CALDESC:Your online events calendar
X-WR-TIMEZONE:UTC
BEGIN:VTIMEZONE
TZID:UTC
END:VTIMEZONE
BEGIN:VEVENT
UID:20211125T150000UTC-2148u8kHKd@http://www.denbighchristianacademy.com/
DTSTAMP:20260425T111721Z
CATEGORIES:School Menu
DESCRIPTION:<p>CLOSED</p>
DTSTART:20211125T000000Z
DTEND:20211125T235959Z
SUMMARY:Thursday - CLOSED
URL:https://www.denbighchristianacademy.com/index.php/school-calendar/lunch
 -menu/10-school-menu/733-thursday-closed
X-ALT-DESC;FMTTYPE=TEXT/HTML:<p>CLOSED</p>
END:VEVENT
END:VCALENDAR
