BEGIN:VCALENDAR
VERSION:2.0
PRODID:-//https://www.denbighchristianacademy.com//NONSGML kigkonsult.se iC
 alcreator 2.29.29//
CALSCALE:GREGORIAN
METHOD:PUBLISH
UID:49cc4f9c-e362-4275-8fda-cf668e9b08ec
X-WR-CALNAME:JCal Pro Calendar
X-WR-CALDESC:Your online events calendar
X-WR-TIMEZONE:UTC
BEGIN:VTIMEZONE
TZID:UTC
END:VTIMEZONE
BEGIN:VEVENT
UID:20210531T170000UTC-1829f2ISh6@http://www.denbighchristianacademy.com/
DTSTAMP:20260425T014542Z
CATEGORIES:School Menu
DESCRIPTION:<p>CLOSED for Memorial Day</p>
DTSTART:20210531T000000Z
DTEND:20210531T235959Z
SUMMARY:Monday - Closed
URL:https://www.denbighchristianacademy.com/index.php/school-calendar/lunch
 -menu/10-school-menu/566-monday-closed
X-ALT-DESC;FMTTYPE=TEXT/HTML:<p>CLOSED for Memorial Day</p>
END:VEVENT
END:VCALENDAR
