BEGIN:VCALENDAR
VERSION:2.0
PRODID:-//https://www.denbighchristianacademy.com//NONSGML kigkonsult.se iC
 alcreator 2.29.29//
CALSCALE:GREGORIAN
METHOD:PUBLISH
UID:d7f8c736-60ff-4864-9d98-b69b935d9632
X-WR-CALNAME:JCal Pro Calendar
X-WR-CALDESC:Your online events calendar
X-WR-TIMEZONE:UTC
BEGIN:VTIMEZONE
TZID:UTC
END:VTIMEZONE
BEGIN:VEVENT
UID:20210323T170000UTC-4101ouN4pk@http://www.denbighchristianacademy.com/
DTSTAMP:20260424T223840Z
CATEGORIES:School Menu
DESCRIPTION:<p><span style='text-decoration: underline\;'><strong>Breakfast
 </strong></span></p>\n<p>1/2-1 Bagel w/Cream Cheese<br />1/4-1/2 cup Pinea
 pple<br />1/4-1/2 cup Cereal (optional<br />6 oz. 1% Milk (8 oz for ages 6
 -12)</p>\n<p><br /><span style='text-decoration: underline\;'><strong>AM S
 nack</strong></span></p>\n<p>1/4-1/2 cup Ritz Crackers<br />1/2 oz Cheese 
 Cubes<br />4 oz Water (8 oz for ages 6-12)</p>\n<p><br /><span style='text
 -decoration: underline\;'><strong>Lunch</strong></span></p>\n<p>1 1/2 - 2 
 oz Chicken &amp\; Dumplings<br />1 WW Roll<br />1/4-1/2 cup Mixed Vegetabl
 es<br />1/4 cup Pineapple<br />6 oz.1% Milk (ages 6-12 8 oz)</p>\n<p><br /
 ><span style='text-decoration: underline\;'><strong>PM Snack</strong></spa
 n></p>\n<p>1 - 2 oz Graham Crackers<br />4 oz 1% Milk (8 oz for ages 6-12)
 </p>
DTSTART:20210323T000000Z
DTEND:20210323T235959Z
SUMMARY:Tuesday
URL:https://www.denbighchristianacademy.com/index.php/school-calendar/lunch
 -menu/10-school-menu/518-tuesday
X-ALT-DESC;FMTTYPE=TEXT/HTML:<p><span style='text-decoration: underline\;'>
 <strong>Breakfast</strong></span></p>\n<p>1/2-1 Bagel w/Cream Cheese<br />
 1/4-1/2 cup Pineapple<br />1/4-1/2 cup Cereal (optional<br />6 oz. 1% Milk
  (8 oz for ages 6-12)</p>\n<p><br /><span style='text-decoration: underlin
 e\;'><strong>AM Snack</strong></span></p>\n<p>1/4-1/2 cup Ritz Crackers<br
  />1/2 oz Cheese Cubes<br />4 oz Water (8 oz for ages 6-12)</p>\n<p><br />
 <span style='text-decoration: underline\;'><strong>Lunch</strong></span></
 p>\n<p>1 1/2 - 2 oz Chicken &amp\; Dumplings<br />1 WW Roll<br />1/4-1/2 c
 up Mixed Vegetables<br />1/4 cup Pineapple<br />6 oz.1% Milk (ages 6-12 8 
 oz)</p>\n<p><br /><span style='text-decoration: underline\;'><strong>PM Sn
 ack</strong></span></p>\n<p>1 - 2 oz Graham Crackers<br />4 oz 1% Milk (8 
 oz for ages 6-12)</p>
END:VEVENT
END:VCALENDAR
