BEGIN:VCALENDAR
VERSION:2.0
PRODID:-//https://www.denbighchristianacademy.com//NONSGML kigkonsult.se iC
 alcreator 2.29.29//
CALSCALE:GREGORIAN
METHOD:PUBLISH
UID:923a2829-5d64-4d01-a942-b7304b01a873
X-WR-CALNAME:JCal Pro Calendar
X-WR-CALDESC:Your online events calendar
X-WR-TIMEZONE:UTC
BEGIN:VTIMEZONE
TZID:UTC
END:VTIMEZONE
BEGIN:VEVENT
UID:20210322T170000UTC-8969OOrH8r@http://www.denbighchristianacademy.com/
DTSTAMP:20260424T223820Z
CATEGORIES:School Menu
DESCRIPTION:<p><span style='text-decoration: underline\;'><strong>Breakfast
 </strong></span></p>\n<p>2-4 French Toast Sticks<br />1/4-1/2 cup Pears<br
  />1/4-1/2 cup Cereal (optional)<br />6 oz. 1% Milk (8 oz for ages 6-12)</
 p>\n<p><br /><span style='text-decoration: underline\;'><strong>AM Snack</
 strong></span></p>\n<p>1 Pack WG Fig Newtons (2 oz)<br />4 oz 1% Milk (8 o
 z for ages 6-12)</p>\n<p><br /><span style='text-decoration: underline\;'>
 <strong>Lunch</strong></span></p>\n<p>1 1/2 oz Salisbury Steak w/Gravy<br 
 />1/4-1/2 cup WG Brown Rice<br />1/4-1/2 cup Peas &amp\; Carrots<br />1/4 
 cup Pears<br />6 oz.1% Milk (ages 6-12 8 oz)</p>\n<p><br /><span style='te
 xt-decoration: underline\;'><strong>PM Snack</strong></span></p>\n<p>1 (.7
 8 oz) Bar Rice Krispy Treat<br />4 oz 1% Milk (8 oz for ages 6-12)</p>
DTSTART:20210322T000000Z
DTEND:20210322T235959Z
SUMMARY:Monday
URL:https://www.denbighchristianacademy.com/index.php/school-calendar/lunch
 -menu/10-school-menu/517-monday
X-ALT-DESC;FMTTYPE=TEXT/HTML:<p><span style='text-decoration: underline\;'>
 <strong>Breakfast</strong></span></p>\n<p>2-4 French Toast Sticks<br />1/4
 -1/2 cup Pears<br />1/4-1/2 cup Cereal (optional)<br />6 oz. 1% Milk (8 oz
  for ages 6-12)</p>\n<p><br /><span style='text-decoration: underline\;'><
 strong>AM Snack</strong></span></p>\n<p>1 Pack WG Fig Newtons (2 oz)<br />
 4 oz 1% Milk (8 oz for ages 6-12)</p>\n<p><br /><span style='text-decorati
 on: underline\;'><strong>Lunch</strong></span></p>\n<p>1 1/2 oz Salisbury 
 Steak w/Gravy<br />1/4-1/2 cup WG Brown Rice<br />1/4-1/2 cup Peas &amp\; 
 Carrots<br />1/4 cup Pears<br />6 oz.1% Milk (ages 6-12 8 oz)</p>\n<p><br 
 /><span style='text-decoration: underline\;'><strong>PM Snack</strong></sp
 an></p>\n<p>1 (.78 oz) Bar Rice Krispy Treat<br />4 oz 1% Milk (8 oz for a
 ges 6-12)</p>
END:VEVENT
END:VCALENDAR
